BEGIN:VCALENDAR
VERSION:2.0
PRODID:-//Safe Haven Pet Sanctuary - ECPv6.15.20//NONSGML v1.0//EN
CALSCALE:GREGORIAN
METHOD:PUBLISH
X-WR-CALNAME:Safe Haven Pet Sanctuary
X-ORIGINAL-URL:https://safehavenpet.org
X-WR-CALDESC:Events for Safe Haven Pet Sanctuary
REFRESH-INTERVAL;VALUE=DURATION:PT1H
X-Robots-Tag:noindex
X-PUBLISHED-TTL:PT1H
BEGIN:VTIMEZONE
TZID:America/Chicago
BEGIN:DAYLIGHT
TZOFFSETFROM:-0600
TZOFFSETTO:-0500
TZNAME:CDT
DTSTART:20230312T080000
END:DAYLIGHT
BEGIN:STANDARD
TZOFFSETFROM:-0500
TZOFFSETTO:-0600
TZNAME:CST
DTSTART:20231105T070000
END:STANDARD
BEGIN:DAYLIGHT
TZOFFSETFROM:-0600
TZOFFSETTO:-0500
TZNAME:CDT
DTSTART:20240310T080000
END:DAYLIGHT
BEGIN:STANDARD
TZOFFSETFROM:-0500
TZOFFSETTO:-0600
TZNAME:CST
DTSTART:20241103T070000
END:STANDARD
BEGIN:DAYLIGHT
TZOFFSETFROM:-0600
TZOFFSETTO:-0500
TZNAME:CDT
DTSTART:20250309T080000
END:DAYLIGHT
BEGIN:STANDARD
TZOFFSETFROM:-0500
TZOFFSETTO:-0600
TZNAME:CST
DTSTART:20251102T070000
END:STANDARD
END:VTIMEZONE
BEGIN:VEVENT
DTSTART;TZID=America/Chicago:20240804T163000
DTEND;TZID=America/Chicago:20240804T190000
DTSTAMP:20260424T121628
CREATED:20240706T041813Z
LAST-MODIFIED:20240706T041813Z
UID:32899-1722789000-1722798000@safehavenpet.org
SUMMARY:Pets & Animals Trivia
DESCRIPTION:Trivia for a charitable cause!\n\nCome on down to Lion’s Tail in Neenah\, and show off all that knowledge you have about your furry friends! Win a prize or two – maybe even a round of free beer for your team – all while helping out a great organization! Lion’s Tail Brewing Co. will be donating a percentage of sales that entire day as long as you mention you are participating in the Cheers to Charity Event. So if you can’t make it to trivia at 4:30\, try to come any other time during their open hours\, they’ll still donate!!\n\nSuggested donation of $5 per trivia player.
URL:https://safehavenpet.org/event/pets-animals-trivia/
LOCATION:Lion’s Tail Brewing Company\, 116 S. Commercial St\, Neenah\, WI\, 54956\, United States
ATTACH;FMTTYPE=image/jpeg:https://safehavenpet.org/wp-content/uploads/2024/07/449715302_122161891268193231_5597419019279181298_n.jpg
END:VEVENT
BEGIN:VEVENT
DTSTART;TZID=America/Chicago:20240810T093000
DTEND;TZID=America/Chicago:20240810T103000
DTSTAMP:20260424T121628
CREATED:20240804T160741Z
LAST-MODIFIED:20240804T160741Z
UID:33200-1723282200-1723285800@safehavenpet.org
SUMMARY:Yoga With Kitties
DESCRIPTION:Join Unknown Yogi for a yoga class with kitties! This is a great way to get up close and personal with some adorable rescue cats. Anyone can attend\, no experience is needed. You may bring your own mat\, or we have extras available. Cost: $15 Location: Safe Haven Pet Sanctuary\, 151 N Broadway Green Bay\, WI. 54303. Proceeds benefit the kitties! \nYounger kids are not suggested for this event\, older kids must be accompanied by an adult and be able to follow all of the rules. Stay tuned for kid-specific yoga classes\, we try to have a few a year! \n\n		\n		\n			\n				\n			\n				\n				Photo by Sarah Darst\n				\n			\n				\n			\n				\n				Photo by Sarah Darst\n				\n		\n\n 
URL:https://safehavenpet.org/event/yoga-with-kitties-84/
LOCATION:Safe Haven Pet Sanctuary Inc.\, 151 North Broadway\, Green Bay\, WI\, 54303\, United States
ATTACH;FMTTYPE=image/png:https://safehavenpet.org/wp-content/uploads/2023/07/yoga.png
END:VEVENT
BEGIN:VEVENT
DTSTART;TZID=America/Chicago:20240824T093000
DTEND;TZID=America/Chicago:20240824T103000
DTSTAMP:20260424T121628
CREATED:20240804T161016Z
LAST-MODIFIED:20240814T051724Z
UID:33207-1724491800-1724495400@safehavenpet.org
SUMMARY:Yoga With Kitties
DESCRIPTION:Join Unknown Yogi for a yoga class with kitties! This is a great way to get up close and personal with some adorable rescue cats. Anyone can attend\, no experience is needed. You may bring your own mat\, or we have extras available. Cost: $15 Location: Safe Haven Pet Sanctuary\, 151 N Broadway Green Bay\, WI. 54303. Proceeds benefit the kitties! \nYounger kids are not suggested for this event\, older kids must be accompanied by an adult and be able to follow all of the rules. Stay tuned for kid-specific yoga classes\, we try to have a few a year! \n\n		\n		\n			\n				\n			\n				\n				Photo by Sarah Darst\n				\n			\n				\n			\n				\n				Photo by Sarah Darst\n				\n		\n\n 
URL:https://safehavenpet.org/event/yoga-with-kitties-85/
LOCATION:Safe Haven Pet Sanctuary Inc.\, 151 North Broadway\, Green Bay\, WI\, 54303\, United States
ATTACH;FMTTYPE=image/png:https://safehavenpet.org/wp-content/uploads/2023/07/yoga.png
END:VEVENT
BEGIN:VEVENT
DTSTART;TZID=America/Chicago:20240828T160000
DTEND;TZID=America/Chicago:20240828T200000
DTSTAMP:20260424T121628
CREATED:20240522T055647Z
LAST-MODIFIED:20240522T055840Z
UID:32540-1724860800-1724875200@safehavenpet.org
SUMMARY:Appleton Slim Chickens Fundraiser Night
DESCRIPTION:What: Slim Chickens Fundraiser Night \nWhen: August 28th 4pm-8pm \nWhere: 601 West Northland Avenue\, Appleton\, WI 54911 \nJoin us at Slim Chickens in Appleton\, WI for a meal benefiting Safe Haven! On August 28th from 4pm-8pm any orders placed in-store or online using the special code SLIMGIVES will have a portion of their total donated directly to us! This fundraiser event is only valid at the Slim Chickens in APPLETON\, located at 601 West Northland Avenue\, Appleton\, WI 54911. If ordering in person\, you must tell your cashier that your meal is part of the Safe Haven fundraiser. If ordering online\, you must use the code SLIMGIVES to qualify. 15% of ALL SALES will be donated. Yummy food and saving animals? WIN-WIN! \nTo view their menu\, or order online\, visit https://slimchickens.com/location/appleton-wi-601-w-northland-ave-54911/
URL:https://safehavenpet.org/event/appleton-slim-chickens-fundraiser-night/
LOCATION:Slim Chickens\, 601 West Northland Avenue\, Appleton\, WI\, 54911\, United States
ATTACH;FMTTYPE=image/png:https://safehavenpet.org/wp-content/uploads/2024/05/Untitled-design-5.png
END:VEVENT
END:VCALENDAR