BEGIN:VCALENDAR
VERSION:2.0
PRODID:-//Safe Haven Pet Sanctuary - ECPv6.15.20//NONSGML v1.0//EN
CALSCALE:GREGORIAN
METHOD:PUBLISH
X-WR-CALNAME:Safe Haven Pet Sanctuary
X-ORIGINAL-URL:https://safehavenpet.org
X-WR-CALDESC:Events for Safe Haven Pet Sanctuary
REFRESH-INTERVAL;VALUE=DURATION:PT1H
X-Robots-Tag:noindex
X-PUBLISHED-TTL:PT1H
BEGIN:VTIMEZONE
TZID:America/Chicago
BEGIN:DAYLIGHT
TZOFFSETFROM:-0600
TZOFFSETTO:-0500
TZNAME:CDT
DTSTART:20220313T080000
END:DAYLIGHT
BEGIN:STANDARD
TZOFFSETFROM:-0500
TZOFFSETTO:-0600
TZNAME:CST
DTSTART:20221106T070000
END:STANDARD
BEGIN:DAYLIGHT
TZOFFSETFROM:-0600
TZOFFSETTO:-0500
TZNAME:CDT
DTSTART:20230312T080000
END:DAYLIGHT
BEGIN:STANDARD
TZOFFSETFROM:-0500
TZOFFSETTO:-0600
TZNAME:CST
DTSTART:20231105T070000
END:STANDARD
BEGIN:DAYLIGHT
TZOFFSETFROM:-0600
TZOFFSETTO:-0500
TZNAME:CDT
DTSTART:20240310T080000
END:DAYLIGHT
BEGIN:STANDARD
TZOFFSETFROM:-0500
TZOFFSETTO:-0600
TZNAME:CST
DTSTART:20241103T070000
END:STANDARD
END:VTIMEZONE
BEGIN:VEVENT
DTSTART;TZID=America/Chicago:20230710T160000
DTEND;TZID=America/Chicago:20230710T200000
DTSTAMP:20260425T164104
CREATED:20230614T021143Z
LAST-MODIFIED:20230614T021143Z
UID:29162-1689004800-1689019200@safehavenpet.org
SUMMARY:Raise Some Dough: Panera Fundraiser
DESCRIPTION:Let’s raise some dough! ? Celebrate NATIONAL KITTEN DAY on July 10th by raising funds for our rescue kittens! From 4-8pm at Panera Bread on 2627 South Oneida Street Green Bay\, WI 54304 Panera will be donating proceeds to our non-profit\, no-kill shelter. Please show the event on your phone or a printed flyer to the cashier when ordering to ensure 20% of your order is donated! For ONLINE ordering\, or kiosk use in-store\, you must enter the code FUND4U at checkout. There is no extra cost\, or minimum purchase required\, just stop by for any of the yummy menu items (vegan and vegetarian options too!) Panera has to offer and help us save lives! Whether dining in or taking home to-go\, proceeds of your order will benefit us as long as you tell the cashier you are ordering for the fundraiser or enter the code at checkout. ? ? ?
URL:https://safehavenpet.org/event/raise-some-dough-panera-fundraiser/
LOCATION:Panera Bread\, 2627 S Oneida St\, Green Bay\, WI\, 54304\, United States
ATTACH;FMTTYPE=image/png:https://safehavenpet.org/wp-content/uploads/2023/06/fghjk.png
END:VEVENT
END:VCALENDAR