BEGIN:VCALENDAR
VERSION:2.0
PRODID:-//Safe Haven Pet Sanctuary - ECPv6.15.20//NONSGML v1.0//EN
CALSCALE:GREGORIAN
METHOD:PUBLISH
X-WR-CALNAME:Safe Haven Pet Sanctuary
X-ORIGINAL-URL:https://safehavenpet.org
X-WR-CALDESC:Events for Safe Haven Pet Sanctuary
REFRESH-INTERVAL;VALUE=DURATION:PT1H
X-Robots-Tag:noindex
X-PUBLISHED-TTL:PT1H
BEGIN:VTIMEZONE
TZID:America/Chicago
BEGIN:DAYLIGHT
TZOFFSETFROM:-0600
TZOFFSETTO:-0500
TZNAME:CDT
DTSTART:20230312T080000
END:DAYLIGHT
BEGIN:STANDARD
TZOFFSETFROM:-0500
TZOFFSETTO:-0600
TZNAME:CST
DTSTART:20231105T070000
END:STANDARD
BEGIN:DAYLIGHT
TZOFFSETFROM:-0600
TZOFFSETTO:-0500
TZNAME:CDT
DTSTART:20240310T080000
END:DAYLIGHT
BEGIN:STANDARD
TZOFFSETFROM:-0500
TZOFFSETTO:-0600
TZNAME:CST
DTSTART:20241103T070000
END:STANDARD
BEGIN:DAYLIGHT
TZOFFSETFROM:-0600
TZOFFSETTO:-0500
TZNAME:CDT
DTSTART:20250309T080000
END:DAYLIGHT
BEGIN:STANDARD
TZOFFSETFROM:-0500
TZOFFSETTO:-0600
TZNAME:CST
DTSTART:20251102T070000
END:STANDARD
END:VTIMEZONE
BEGIN:VEVENT
DTSTART;TZID=America/Chicago:20241116T093000
DTEND;TZID=America/Chicago:20241116T103000
DTSTAMP:20260424T090625
CREATED:20241020T033840Z
LAST-MODIFIED:20241020T034215Z
UID:34029-1731749400-1731753000@safehavenpet.org
SUMMARY:Yoga With Kitties
DESCRIPTION:Join Unknown Yogi for a yoga class with kitties! This is a great way to get up close and personal with some adorable rescue cats. Anyone can attend\, no experience is needed. You may bring your own mat\, or we have extras available. Cost: $15 Location: Safe Haven Pet Sanctuary\, 151 N Broadway Green Bay\, WI. 54303. Proceeds benefit the kitties! Attendees must register and pay for tickets before 5pm the day before class. \nYounger kids are not suggested for this event\, older kids must be accompanied by an adult and be able to follow all of the rules. Stay tuned for kid-specific yoga classes\, we try to have a few a year! \n\n		\n		\n			\n				\n			\n				\n				Photo by Sarah Darst\n				\n			\n				\n			\n				\n				Photo by Sarah Darst\n				\n		\n\n 
URL:https://safehavenpet.org/event/yoga-with-kitties-91/
LOCATION:Safe Haven Pet Sanctuary Inc.\, 151 North Broadway\, Green Bay\, WI\, 54303\, United States
ATTACH;FMTTYPE=image/png:https://safehavenpet.org/wp-content/uploads/2023/07/yoga.png
END:VEVENT
BEGIN:VEVENT
DTSTART;TZID=America/Chicago:20241122T130000
DTEND;TZID=America/Chicago:20241122T160000
DTSTAMP:20260424T090625
CREATED:20241025T202650Z
LAST-MODIFIED:20241025T202650Z
UID:34052-1732280400-1732291200@safehavenpet.org
SUMMARY:Low-Cost Veterinary Clinic 11/22/24 (Dogs 1-2pm | Cats 2-4pm)
DESCRIPTION:There is a separate ticket link & time slots for cats or dogs to reduce stress on the animals. If you bring your animal in during the wrong time slot you will be asked to come back at the correct time. This is a first come\, first serve event.\n \nDogs: 1pm-2pm\nCats: 2pm-4pm \nEach animal will receive a brief wellness exam for $25 which will be paid in advance through the ticket link to secure your spot. Tickets are non-refundable.  \nIf you will be bringing more than one pet\, please purchase one ticket per animal. Please bring proof of current rabies vaccination unless receiving 1 year rabies at time of service. Proof of prior rabies required for 3 year booster.  \nAdd on other services for listed price to be paid at time of service: \nCat or Dog Rabies Vaccines (required if not up to date on all pets over 16 weeks) \n\nRabies Vaccine 1yr –  $25 (legally required)\nRabies Vaccine 3yr – $35 (proof of previous vaccine required)\n\nCat Vaccines \n\nFVRCP Vaccine – $20 (upper respiratory/infectious disease prevention)\nFeLV Vaccine – $25 (infections leukemia prevention\, negative test required)\nFeLV/FIV Test – $40 (tests for infectious immune disease)\n\nDog Vaccines \n\nDHPP Vaccine – $20 OR\nDHLPP Vaccine – $25 (upper respiratory/infections disease prevention or plus leptospirosis)\nBordetella Vaccine – $20 (kennel cough)\nHeartworm Test – $35 (tests for infection spread by mosquitos)\n\nPreventions for Dogs or Cats \n\nAdministered Pyrantel Dewormer – $7 (round and hookworm)\nAdministered Revolution – Cats $20\, Dogs $35 (cat and small dog heartworm/flea/dewormer/earmites\, HW test required for dogs)\nWritten Rx Fee – $15 per prescription for heartworm or flea/tick (HW test required)\nMicrochip with Michelson Found Animals plus free lifetime registration – $30\n\nGrooming Services for Dogs or Cats \n\nNail Trim – Cats $25\, Dogs $35\nEar Cleaning – $15\nAnal Glands – $25\n\n**Capstar required for any animal with active fleas – $10** \n*All pets MUST be on a leash or in a carrier. If you do not have a carrier we will come out to your car with one.*  \nPlease email or message us on Facebook if you have any questions! 
URL:https://safehavenpet.org/event/low-cost-veterinary-clinic-11-22-24-dogs-1-2pm-cats-2-4pm/
LOCATION:Safe Haven Pet Sanctuary Inc.\, 151 North Broadway\, Green Bay\, WI\, 54303\, United States
ATTACH;FMTTYPE=image/jpeg:https://safehavenpet.org/wp-content/uploads/2022/08/clinic.jpg
END:VEVENT
BEGIN:VEVENT
DTSTART;TZID=America/Chicago:20241125T173000
DTEND;TZID=America/Chicago:20241125T183000
DTSTAMP:20260424T090625
CREATED:20241103T223112Z
LAST-MODIFIED:20241103T223112Z
UID:34113-1732555800-1732559400@safehavenpet.org
SUMMARY:Book Club With Cats
DESCRIPTION:Join us for our book club with cats on Monday November 25th at 5:30pm. This event will take place at Safe Haven Pet Sanctuary in our used book store\, Haven Books. The book of the month is a graphic novel\, “Lore Olympus: Volume 1” by Rachel Smythe. This read is for lovers of romance\, mythology\, and art. Read it and then join us for a casual open discussion surrounded by adoptable rescue kitties. Coffee and Tea will be provided! The physical book or audio book can be purchased or rented through  Amazon/Audible\, Barnes & Noble\, or your local libraries\, we do not provide copies. Tickets to attend are just $10 per person and all proceeds benefit the animals of Safe Haven Pet Sanctuary! Spots are limited\, so purchase your ticket ahead of Book Club.  \n? Book Purchasing Options: \nAmazon: https://a.co/d/eV2jMqR \nB&N: https://www.barnesandnoble.com/w/lore-olympus-rachel-smythe/1138940397 \nBrown County Libraries: https://brown.ent.sirsi.net/client/en_US/rivers/search/results/?ln=en_US&q=lore+olympus&rw=0 \n 
URL:https://safehavenpet.org/event/book-club-with-cats-3/
LOCATION:Safe Haven Pet Sanctuary Inc.\, 151 North Broadway\, Green Bay\, WI\, 54303\, United States
ATTACH;FMTTYPE=image/png:https://safehavenpet.org/wp-content/uploads/2024/08/Book-Club-With-Cats.png
END:VEVENT
BEGIN:VEVENT
DTSTART;TZID=America/Chicago:20241129T120000
DTEND;TZID=America/Chicago:20241129T180000
DTSTAMP:20260424T090625
CREATED:20241126T005241Z
LAST-MODIFIED:20241126T005318Z
UID:34360-1732881600-1732903200@safehavenpet.org
SUMMARY:Black Furriday
DESCRIPTION:Shopping that saves lives!  Join us for Black Furriday on November 29th 12pm-6pm. Hangout with adoptable kitties and shop for a good cause! We have a wide variety of purrfect gifts for animal lovers\, book lovers\, and pets! Proceeds benefit our non-profit rescue efforts. \n Discount pet toys\, cat trees\, and rescue merchandise Used books (TONS available) fill a bag for $10 Pet gift bundles Mystery book bags Haven Books gift cards MORE TBD\nFeatured vendor sales:Cheezecat Creations ALL products 25% offCat Grandma Paula’s select catnip kickers on sale for $5 eachPepperBerry Studio ALL products 25% off\nNot interested in shopping? Just relax and hang out with the cats our cage-free sanctuary! Socializing with our cats is always welcome. No entry fee required- just donate or purchase an item if you can!
URL:https://safehavenpet.org/event/black-furriday/
ATTACH;FMTTYPE=image/jpeg:https://safehavenpet.org/wp-content/uploads/2024/11/467124478_904671668442702_1319870404128266369_n.jpg
END:VEVENT
END:VCALENDAR