BEGIN:VCALENDAR
VERSION:2.0
PRODID:-//Safe Haven Pet Sanctuary - ECPv6.15.20//NONSGML v1.0//EN
CALSCALE:GREGORIAN
METHOD:PUBLISH
X-ORIGINAL-URL:https://safehavenpet.org
X-WR-CALDESC:Events for Safe Haven Pet Sanctuary
REFRESH-INTERVAL;VALUE=DURATION:PT1H
X-Robots-Tag:noindex
X-PUBLISHED-TTL:PT1H
BEGIN:VTIMEZONE
TZID:America/Chicago
BEGIN:DAYLIGHT
TZOFFSETFROM:-0600
TZOFFSETTO:-0500
TZNAME:CDT
DTSTART:20220313T080000
END:DAYLIGHT
BEGIN:STANDARD
TZOFFSETFROM:-0500
TZOFFSETTO:-0600
TZNAME:CST
DTSTART:20221106T070000
END:STANDARD
BEGIN:DAYLIGHT
TZOFFSETFROM:-0600
TZOFFSETTO:-0500
TZNAME:CDT
DTSTART:20230312T080000
END:DAYLIGHT
BEGIN:STANDARD
TZOFFSETFROM:-0500
TZOFFSETTO:-0600
TZNAME:CST
DTSTART:20231105T070000
END:STANDARD
BEGIN:DAYLIGHT
TZOFFSETFROM:-0600
TZOFFSETTO:-0500
TZNAME:CDT
DTSTART:20240310T080000
END:DAYLIGHT
BEGIN:STANDARD
TZOFFSETFROM:-0500
TZOFFSETTO:-0600
TZNAME:CST
DTSTART:20241103T070000
END:STANDARD
END:VTIMEZONE
BEGIN:VEVENT
DTSTART;VALUE=DATE:20231128
DTEND;VALUE=DATE:20231129
DTSTAMP:20260425T083247
CREATED:20231114T014244Z
LAST-MODIFIED:20231125T061906Z
UID:30476-1701129600-1701215999@safehavenpet.org
SUMMARY:Giving Tuesday 2023 with Safe Haven Pet Sanctuary
DESCRIPTION:Giving Tuesday is a global day of generosity where those participating donate to nonprofit organizations that make a difference! This day of giving helps build stronger communities around the world.\n\nThis Giving Tuesday\, we will be sharing in-depth stories of the animals in our care on our Facebook page. We ask that you make a contribution\, no matter the size\, if any of our stories speak to you. If you are unable to donate we ask that you please share\, like\, and comment on our posts! There is always a way you can make a difference. \n\nThe sanctuary will be OPEN 12pm-6pm\, we hope you can stop in! For those farther away\, we will be going live on Facebook and Instagram throughout the day.\n\nOur goal this year is to raise at least $25\,000. All contributions made on Giving Tuesday will help us continue to provide top quality care for our amazing animals.\n\nWays to GIVE:\nNETGIVER:\nhttps://donate.netgiverapp.com/nonprofits/4462359/give\nPAYPAL:\nwww.paypal.me/safehavengb\nVENMO:\nVenmo.com/safehavenpetsanctuary\nWEBSITE:\nwww.safehavenpet.org/donate\n\nBONFIRE MERCH:\nhttps://www.bonfire.com/safehavengivingtuesday/?productType=98d3da3b-dc7e-4f24-9268-626598e22b5d\n\n\n\n\n\n\n\nWays to HELP: \nVOLUNTEER WITH US:\nhttps://safehavenpet.org/applications/volunteer-application/ \nFOSTER AN ANIMAL: \nhttps://safehavenpet.org/applications/foster-application/\nADOPT AN ANIMAL:\n\nhttps://safehavenpet.org/applications/adoption/\n\n\n\nIf you would like to offer to match any amount of donations made this day\, or to donate an item for us to use as a raffle prize\, please message us on Facebook/Instagram\, or contact shpetfundraiser@gmail.com. We appreciate you all more than words can describe!\n\n\nFor more information on Giving Tuesday visit https://www.givingtuesday.org/
URL:https://safehavenpet.org/event/giving-tuesday-2023-with-safe-haven-pet-sanctuary/
ATTACH;FMTTYPE=image/jpeg:https://safehavenpet.org/wp-content/uploads/2023/11/Copy-of-DONATE-FOSTER-VOLUNTEER-SAVE-LIVES-1.jpg
END:VEVENT
END:VCALENDAR