BEGIN:VCALENDAR
VERSION:2.0
PRODID:-//Safe Haven Pet Sanctuary - ECPv6.15.20//NONSGML v1.0//EN
CALSCALE:GREGORIAN
METHOD:PUBLISH
X-ORIGINAL-URL:https://safehavenpet.org
X-WR-CALDESC:Events for Safe Haven Pet Sanctuary
REFRESH-INTERVAL;VALUE=DURATION:PT1H
X-Robots-Tag:noindex
X-PUBLISHED-TTL:PT1H
BEGIN:VTIMEZONE
TZID:America/Chicago
BEGIN:DAYLIGHT
TZOFFSETFROM:-0600
TZOFFSETTO:-0500
TZNAME:CDT
DTSTART:20230312T080000
END:DAYLIGHT
BEGIN:STANDARD
TZOFFSETFROM:-0500
TZOFFSETTO:-0600
TZNAME:CST
DTSTART:20231105T070000
END:STANDARD
BEGIN:DAYLIGHT
TZOFFSETFROM:-0600
TZOFFSETTO:-0500
TZNAME:CDT
DTSTART:20240310T080000
END:DAYLIGHT
BEGIN:STANDARD
TZOFFSETFROM:-0500
TZOFFSETTO:-0600
TZNAME:CST
DTSTART:20241103T070000
END:STANDARD
BEGIN:DAYLIGHT
TZOFFSETFROM:-0600
TZOFFSETTO:-0500
TZNAME:CDT
DTSTART:20250309T080000
END:DAYLIGHT
BEGIN:STANDARD
TZOFFSETFROM:-0500
TZOFFSETTO:-0600
TZNAME:CST
DTSTART:20251102T070000
END:STANDARD
END:VTIMEZONE
BEGIN:VEVENT
DTSTART;TZID=America/Chicago:20241214T093000
DTEND;TZID=America/Chicago:20241214T103000
DTSTAMP:20260424T054413
CREATED:20241126T001855Z
LAST-MODIFIED:20241126T001855Z
UID:34348-1734168600-1734172200@safehavenpet.org
SUMMARY:Yoga With Kitties
DESCRIPTION:Join Unknown Yogi for a yoga class with kitties! This is a great way to get up close and personal with some adorable rescue cats. Anyone can attend\, no experience is needed. You may bring your own mat\, or we have extras available. Cost: $15 Location: Safe Haven Pet Sanctuary\, 151 N Broadway Green Bay\, WI. 54303. Proceeds benefit the kitties! Attendees must register prior to class. \nYounger kids are not suggested for this event\, older kids must be accompanied by an adult and be able to follow all of the rules. Stay tuned for kid-specific yoga classes\, we try to have a few a year! \n\n		\n		\n			\n				\n			\n				\n				Photo by Sarah Darst\n				\n			\n				\n			\n				\n				Photo by Sarah Darst\n				\n		\n\n 
URL:https://safehavenpet.org/event/yoga-with-kitties-93/
LOCATION:Safe Haven Pet Sanctuary Inc.\, 151 North Broadway\, Green Bay\, WI\, 54303\, United States
ATTACH;FMTTYPE=image/png:https://safehavenpet.org/wp-content/uploads/2023/07/yoga.png
END:VEVENT
BEGIN:VEVENT
DTSTART;TZID=America/Chicago:20241220T160000
DTEND;TZID=America/Chicago:20241220T210000
DTSTAMP:20260424T054413
CREATED:20241208T224416Z
LAST-MODIFIED:20241208T224454Z
UID:34525-1734710400-1734728400@safehavenpet.org
SUMMARY:Winter Wine & Beer Walk + Fundraiser Photos With The Grinch!
DESCRIPTION:We’re excited to be a stop on the Winter Wine & Beer Walk on December 20th! Stop by Safe Haven/Haven Books for a delicious sample while enjoying the festiveatmosphere of the Broadway District. Purchase Wine & Beer walk tickets now: https://loom.ly/XhxKaTI\n During your stop make sure to pose for a professional photo with the Grinch for just a $5 donation per person! Please\, humans only\, no pets!\n Shop tons of used books and stocking stuffers for animal love- proceeds benefit our rescue kitties!
URL:https://safehavenpet.org/event/winter-wine-beer-walk-fundraiser-photos-with-the-grinch/
LOCATION:Safe Haven Pet Sanctuary Inc.\, 151 North Broadway\, Green Bay\, WI\, 54303\, United States
ATTACH;FMTTYPE=image/png:https://safehavenpet.org/wp-content/uploads/2024/12/Limited-Tickets-1.png
END:VEVENT
BEGIN:VEVENT
DTSTART;TZID=America/Chicago:20241228T093000
DTEND;TZID=America/Chicago:20241228T103000
DTSTAMP:20260424T054413
CREATED:20241126T003832Z
LAST-MODIFIED:20241126T003832Z
UID:34351-1735378200-1735381800@safehavenpet.org
SUMMARY:Yoga With Kitties
DESCRIPTION:Join Unknown Yogi for a yoga class with kitties! This is a great way to get up close and personal with some adorable rescue cats. Anyone can attend\, no experience is needed. You may bring your own mat\, or we have extras available. Cost: $15 Location: Safe Haven Pet Sanctuary\, 151 N Broadway Green Bay\, WI. 54303. Proceeds benefit the kitties! Attendees must register prior to class. \nYounger kids are not suggested for this event\, older kids must be accompanied by an adult and be able to follow all of the rules. Stay tuned for kid-specific yoga classes\, we try to have a few a year! \n\n		\n		\n			\n				\n			\n				\n				Photo by Sarah Darst\n				\n			\n				\n			\n				\n				Photo by Sarah Darst\n				\n		\n\n 
URL:https://safehavenpet.org/event/yoga-with-kitties-94/
LOCATION:Safe Haven Pet Sanctuary Inc.\, 151 North Broadway\, Green Bay\, WI\, 54303\, United States
ATTACH;FMTTYPE=image/png:https://safehavenpet.org/wp-content/uploads/2023/07/yoga.png
END:VEVENT
END:VCALENDAR