BEGIN:VCALENDAR
VERSION:2.0
PRODID:-//Safe Haven Pet Sanctuary - ECPv6.15.20//NONSGML v1.0//EN
CALSCALE:GREGORIAN
METHOD:PUBLISH
X-WR-CALNAME:Safe Haven Pet Sanctuary
X-ORIGINAL-URL:https://safehavenpet.org
X-WR-CALDESC:Events for Safe Haven Pet Sanctuary
REFRESH-INTERVAL;VALUE=DURATION:PT1H
X-Robots-Tag:noindex
X-PUBLISHED-TTL:PT1H
BEGIN:VTIMEZONE
TZID:America/Chicago
BEGIN:DAYLIGHT
TZOFFSETFROM:-0600
TZOFFSETTO:-0500
TZNAME:CDT
DTSTART:20230312T080000
END:DAYLIGHT
BEGIN:STANDARD
TZOFFSETFROM:-0500
TZOFFSETTO:-0600
TZNAME:CST
DTSTART:20231105T070000
END:STANDARD
BEGIN:DAYLIGHT
TZOFFSETFROM:-0600
TZOFFSETTO:-0500
TZNAME:CDT
DTSTART:20240310T080000
END:DAYLIGHT
BEGIN:STANDARD
TZOFFSETFROM:-0500
TZOFFSETTO:-0600
TZNAME:CST
DTSTART:20241103T070000
END:STANDARD
BEGIN:DAYLIGHT
TZOFFSETFROM:-0600
TZOFFSETTO:-0500
TZNAME:CDT
DTSTART:20250309T080000
END:DAYLIGHT
BEGIN:STANDARD
TZOFFSETFROM:-0500
TZOFFSETTO:-0600
TZNAME:CST
DTSTART:20251102T070000
END:STANDARD
END:VTIMEZONE
BEGIN:VEVENT
DTSTART;TZID=America/Chicago:20240908T090000
DTEND;TZID=America/Chicago:20240908T120000
DTSTAMP:20260424T102842
CREATED:20240823T055758Z
LAST-MODIFIED:20240827T015435Z
UID:33453-1725786000-1725796800@safehavenpet.org
SUMMARY:Burkel's 6th Annual Charity Dog Walk: Benefitting Safe Haven Pet Sanctuary
DESCRIPTION:Join us for our 6th annual charity dog walk! We are raising money for Safe Haven Pet Sanctuary!\n1 mile walk\nThree sign up options\n1.Venmo (Venmo will be emily_burkel) (Message us on Facebook or txt/call Emily at 920-737-9223 to pay venmo to sign up!\n2. Sign up in person in advance at Burkels (cash payment only)\n3. Sign up the morning of ($20)\n\n$20 per adult (you DO NOT RECEIVE A DOG WALK SHIRT)\n$35 per adult (you DO RECEIVE A DOG WALK SHIRT)\n(children under 14 walk free)\n*If you are paying the sign up price to receive A TEE SHIRT you must sign up by AUGUST 14th\n\nParking at Burkel’s One Block Over.\nFree dog treats provided by Burkel’s.\nFood and drinks will be available to order on Burkel’s dog friendly patio (drinks available starting at 9 am\, kitchen opening at 10:30 am)\nRegistration begins at 9 am. Walk start time is 10 am.\nNo retractable leashes!\nDogs must be current on rabies and distemper: please bring vaccination certificates as we will be checking them.\nPlease bring your own poop bags.\n*Doggy vendors will be on the patio*
URL:https://safehavenpet.org/event/burkels-6th-annual-charity-dog-walk-benefitting-safe-haven-pet-sanctuary/
LOCATION:Burkel’s One Block Over\, 1007 Tony Canadeo Run\, Green Bay\, WI\, United States
ATTACH;FMTTYPE=image/png:https://safehavenpet.org/wp-content/uploads/2024/08/6th-annual-charity-dog-walk-1920-x-1080-px.png
END:VEVENT
BEGIN:VEVENT
DTSTART;TZID=America/Chicago:20240927T130000
DTEND;TZID=America/Chicago:20240927T160000
DTSTAMP:20260424T102842
CREATED:20240824T035712Z
LAST-MODIFIED:20240907T125244Z
UID:33490-1727442000-1727452800@safehavenpet.org
SUMMARY:Low-Cost Veterinary Clinic 9/27/24 (Dogs 1-2pm | Cats 2-4pm)
DESCRIPTION:There is a separate ticket link & time slots for cats or dogs to reduce stress on the animals. If you bring your animal in during the wrong time slot you will be asked to come back at the correct time. This is a first come\, first serve event.\n \nDogs: 1pm-2pm\nCats: 2pm-4pm \nEach animal will receive a brief wellness exam for $25 which will be paid in advance through the ticket link to secure your spot. Tickets are non-refundable.  \nIf you will be bringing more than one pet\, please purchase one ticket per animal. Please bring proof of current rabies vaccination unless receiving 1 year rabies at time of service. Proof of prior rabies required for 3 year booster.  \nAdd on other services for listed price to be paid at time of service: \nCat or Dog Rabies Vaccines (required if not up to date on all pets over 16 weeks) \n\nRabies Vaccine 1yr –  $25 (legally required)\nRabies Vaccine 3yr – $35 (proof of previous vaccine required)\n\nCat Vaccines \n\nFVRCP Vaccine – $20 (upper respiratory/infectious disease prevention)\nFeLV Vaccine – $25 (infections leukemia prevention\, negative test required)\nFeLV/FIV Test – $40 (tests for infectious immune disease)\n\nDog Vaccines \n\nDHPP Vaccine – $20 OR\nDHLPP Vaccine – $25 (upper respiratory/infections disease prevention or plus leptospirosis)\nBordetella Vaccine – $20 (kennel cough)\nHeartworm Test – $35 (tests for infection spread by mosquitos)\n\nPreventions for Dogs or Cats \n\nAdministered Pyrantel Dewormer – $7 (round and hookworm)\nAdministered Revolution – Cats $20\, Dogs $35 (cat and small dog heartworm/flea/dewormer/earmites\, HW test required for dogs)\nWritten Rx Fee – $15 per prescription for heartworm or flea/tick (HW test required)\nMicrochip with Michelson Found Animals plus free lifetime registration – $30\n\nGrooming Services for Dogs or Cats \n\nNail Trim – Cats $25\, Dogs $35\nEar Cleaning – $15\nAnal Glands – $25\n\n**Capstar required for any animal with active fleas – $10** \n*All pets MUST be on a leash or in a carrier. If you do not have a carrier we will come out to your car with one.*  \nPlease email or message us on Facebook if you have any questions! 
URL:https://safehavenpet.org/event/low-cost-veterinary-clinic-9-27-24-dogs-1-2pm-cats-2-4pm/
LOCATION:Safe Haven Pet Sanctuary Inc.\, 151 North Broadway\, Green Bay\, WI\, 54303\, United States
ATTACH;FMTTYPE=image/jpeg:https://safehavenpet.org/wp-content/uploads/2022/08/clinic.jpg
END:VEVENT
END:VCALENDAR