BEGIN:VCALENDAR
VERSION:2.0
PRODID:-//Safe Haven Pet Sanctuary - ECPv6.15.20//NONSGML v1.0//EN
CALSCALE:GREGORIAN
METHOD:PUBLISH
X-WR-CALNAME:Safe Haven Pet Sanctuary
X-ORIGINAL-URL:https://safehavenpet.org
X-WR-CALDESC:Events for Safe Haven Pet Sanctuary
REFRESH-INTERVAL;VALUE=DURATION:PT1H
X-Robots-Tag:noindex
X-PUBLISHED-TTL:PT1H
BEGIN:VTIMEZONE
TZID:America/Chicago
BEGIN:DAYLIGHT
TZOFFSETFROM:-0600
TZOFFSETTO:-0500
TZNAME:CDT
DTSTART:20240310T080000
END:DAYLIGHT
BEGIN:STANDARD
TZOFFSETFROM:-0500
TZOFFSETTO:-0600
TZNAME:CST
DTSTART:20241103T070000
END:STANDARD
BEGIN:DAYLIGHT
TZOFFSETFROM:-0600
TZOFFSETTO:-0500
TZNAME:CDT
DTSTART:20250309T080000
END:DAYLIGHT
BEGIN:STANDARD
TZOFFSETFROM:-0500
TZOFFSETTO:-0600
TZNAME:CST
DTSTART:20251102T070000
END:STANDARD
BEGIN:DAYLIGHT
TZOFFSETFROM:-0600
TZOFFSETTO:-0500
TZNAME:CDT
DTSTART:20260308T080000
END:DAYLIGHT
BEGIN:STANDARD
TZOFFSETFROM:-0500
TZOFFSETTO:-0600
TZNAME:CST
DTSTART:20261101T070000
END:STANDARD
END:VTIMEZONE
BEGIN:VEVENT
DTSTART;TZID=America/Chicago:20250628T093000
DTEND;TZID=America/Chicago:20250628T103000
DTSTAMP:20260424T010533
CREATED:20250602T062956Z
LAST-MODIFIED:20250602T063734Z
UID:35727-1751103000-1751106600@safehavenpet.org
SUMMARY:Kids Class: Yoga With Kitties!
DESCRIPTION:Join Unknown Yogi for a yoga class with kitties\, kids edition! Ages 6 and up. This is a great way to get up close and personal with some adorable rescue cats while learning yoga! Parents or guardians can drop kiddos off or hang out while the kids participate. No experience required\, yoga instructor will guide throughout the whole class and make it extra fun for the kids! Please bring a mat if you have one\, otherwise we have a few extras! \nCost: $15 Location: Safe Haven Pet Sanctuary\, 151 N Broadway Green Bay\, WI. 54303. Proceeds benefit the kitties! \nRules:  \nChildren must be able to follow all sanctuary rules. This includes NO running\, yelling\, chasing cats\, or picking up cats. Play and cuddles are welcome\, and some kitties will even ask for attention! However\, cats have teeth and claws\, and every visitor regardless of age must respect their boundaries. Please take a moment to go over these expectations prior to class so we can all have a purrfectly fun time! \n 
URL:https://safehavenpet.org/event/kids-class-yoga-with-kitties-4/
LOCATION:Safe Haven Pet Sanctuary Inc.\, 151 North Broadway\, Green Bay\, WI\, 54303\, United States
ATTACH;FMTTYPE=image/png:https://safehavenpet.org/wp-content/uploads/2025/05/SAT-JUNE-7TH-1.png
END:VEVENT
END:VCALENDAR