BEGIN:VCALENDAR
VERSION:2.0
PRODID:-//Safe Haven Pet Sanctuary - ECPv6.15.20//NONSGML v1.0//EN
CALSCALE:GREGORIAN
METHOD:PUBLISH
X-WR-CALNAME:Safe Haven Pet Sanctuary
X-ORIGINAL-URL:https://safehavenpet.org
X-WR-CALDESC:Events for Safe Haven Pet Sanctuary
REFRESH-INTERVAL;VALUE=DURATION:PT1H
X-Robots-Tag:noindex
X-PUBLISHED-TTL:PT1H
BEGIN:VTIMEZONE
TZID:America/Chicago
BEGIN:DAYLIGHT
TZOFFSETFROM:-0600
TZOFFSETTO:-0500
TZNAME:CDT
DTSTART:20240310T080000
END:DAYLIGHT
BEGIN:STANDARD
TZOFFSETFROM:-0500
TZOFFSETTO:-0600
TZNAME:CST
DTSTART:20241103T070000
END:STANDARD
BEGIN:DAYLIGHT
TZOFFSETFROM:-0600
TZOFFSETTO:-0500
TZNAME:CDT
DTSTART:20250309T080000
END:DAYLIGHT
BEGIN:STANDARD
TZOFFSETFROM:-0500
TZOFFSETTO:-0600
TZNAME:CST
DTSTART:20251102T070000
END:STANDARD
BEGIN:DAYLIGHT
TZOFFSETFROM:-0600
TZOFFSETTO:-0500
TZNAME:CDT
DTSTART:20260308T080000
END:DAYLIGHT
BEGIN:STANDARD
TZOFFSETFROM:-0500
TZOFFSETTO:-0600
TZNAME:CST
DTSTART:20261101T070000
END:STANDARD
END:VTIMEZONE
BEGIN:VEVENT
DTSTART;TZID=America/Chicago:20250405T093000
DTEND;TZID=America/Chicago:20250405T103000
DTSTAMP:20260423T055437
CREATED:20250308T062023Z
LAST-MODIFIED:20250308T062023Z
UID:35304-1743845400-1743849000@safehavenpet.org
SUMMARY:Yoga With Kitties
DESCRIPTION:Join Unknown Yogi for a yoga class with kitties! This is a great way to get up close and personal with some adorable rescue cats. Anyone can attend\, no experience is needed. You may bring your own mat\, or we have extras available. Cost: $15 Location: Safe Haven Pet Sanctuary\, 151 N Broadway Green Bay\, WI. 54303. Proceeds benefit the kitties! Attendees must register prior to class. \nYounger kids are not suggested for this event\, older kids must be accompanied by an adult and be able to follow all of the rules. Stay tuned for kid-specific yoga classes\, we try to have a few a year! \n\n		\n		\n			\n				\n			\n				\n				Photo by Sarah Darst\n				\n			\n				\n			\n				\n				Photo by Sarah Darst\n				\n		\n\n 
URL:https://safehavenpet.org/event/yoga-with-kitties-100/
LOCATION:Safe Haven Pet Sanctuary Inc.\, 151 North Broadway\, Green Bay\, WI\, 54303\, United States
ATTACH;FMTTYPE=image/png:https://safehavenpet.org/wp-content/uploads/2023/07/yoga.png
END:VEVENT
BEGIN:VEVENT
DTSTART;TZID=America/Chicago:20250411T130000
DTEND;TZID=America/Chicago:20250411T160000
DTSTAMP:20260423T055437
CREATED:20250303T213703Z
LAST-MODIFIED:20250303T213703Z
UID:35260-1744376400-1744387200@safehavenpet.org
SUMMARY:Low-Cost Veterinary Clinic 4/11/2025 (Dogs 1-2pm | Cats 2-4pm)
DESCRIPTION:There is a separate ticket link & time slots for cats or dogs to reduce stress on the animals. If you bring your animal in during the wrong time slot you will be asked to come back at the correct time. This is a first come\, first serve event.\n \nDogs: 1pm-2pm\nCats: 2pm-4pm \nEach animal will receive a brief wellness exam for $25 which will be paid in advance through the ticket link to secure your spot. Tickets are non-refundable.  \nIf you will be bringing more than one pet\, please purchase one ticket per animal. Please bring proof of current rabies vaccination unless receiving 1 year rabies at time of service. Proof of prior rabies required for 3 year booster.  \nAdd on other services for listed price to be paid at time of service: \nCat or Dog Rabies Vaccines (required if not up to date on all pets over 16 weeks) \n\nRabies Vaccine 1yr –  $25 (legally required)\nRabies Vaccine 3yr – $35 (proof of previous vaccine required)\n\nCat Vaccines \n\nFVRCP Vaccine – $20 (upper respiratory/infectious disease prevention)\nFeLV Vaccine – $25 (infections leukemia prevention\, negative test required)\nFeLV/FIV Test – $40 (tests for infectious immune disease)\n\nDog Vaccines \n\nDHPP Vaccine – $20 OR\nDHLPP Vaccine – $25 (upper respiratory/infections disease prevention or plus leptospirosis)\nBordetella Vaccine – $20 (kennel cough)\nHeartworm Test – $35 (tests for infection spread by mosquitos)\n\nPreventions for Dogs or Cats \n\nAdministered Pyrantel Dewormer – $7 (round and hookworm)\nAdministered Revolution – Cats $20\, Dogs $35 (cat and small dog heartworm/flea/dewormer/earmites\, HW test required for dogs)\nWritten Rx Fee – $15 per prescription for heartworm or flea/tick (HW test required)\nMicrochip with Michelson Found Animals plus free lifetime registration – $30\n\nGrooming Services for Dogs or Cats \n\nNail Trim – Cats only $25\nEar Cleaning – $15\nAnal Glands – $25\n\n**Capstar required for any animal with active fleas – $10** \n*All pets MUST be on a leash or in a carrier. If you do not have a carrier we will come out to your car with one.*  \nPlease email or message us on Facebook if you have any questions! 
URL:https://safehavenpet.org/event/low-cost-veterinary-clinic-4-11-2025-dogs-1-2pm-cats-2-4pm/
LOCATION:Safe Haven Pet Sanctuary Inc.\, 151 North Broadway\, Green Bay\, WI\, 54303\, United States
ATTACH;FMTTYPE=image/jpeg:https://safehavenpet.org/wp-content/uploads/2022/08/clinic.jpg
END:VEVENT
BEGIN:VEVENT
DTSTART;TZID=America/Chicago:20250412T120000
DTEND;TZID=America/Chicago:20250412T160000
DTSTAMP:20260423T055437
CREATED:20250121T070856Z
LAST-MODIFIED:20250308T062404Z
UID:34890-1744459200-1744473600@safehavenpet.org
SUMMARY:Safe Haven Benefit Dart Tournament
DESCRIPTION:Safe Haven Pet Sanctuary Benefit Dart Tournament at Main Street Pub & Grill starts at noon on Saturday April 12th $300 added to the pot\, Chicago style\, Race to 2\, $20 per person ($10 goes to Safe Haven). Sign ups between 12pm-1pm entry fee paid at the door CASH ONLY. Darts fly around 1:15pm. \nPrize basket giveaways and a 50/50 raffle benefitting Safe Haven will also take place! If you would like to donate or contribute a basket please email shpetfundraiser@gmail.com  ***If you plan to throw in the dart tournament please RSVP below so that they know how many boards to use!*** Thank you! \nAbout Safe Haven Pet Sanctuary: \nSafe Haven Pet Sanctuary is a 501(c)3 non-profit\, no-kill\, cage-free sanctuary that rescues kitties (and some dogs!) with disabilities and special needs from euthanasia in Wisconsin and surrounding areas. Donations help  pay for food\, veterinary care\, medication\, and location expenses.  Animals with special needs come with more initial veterinary visits\, and it can be expensive. With your donation we can keep providing top-notch care to the animals that need us the most.
URL:https://safehavenpet.org/event/safe-haven-benefit-dart-tournament/
LOCATION:Main Street Pub & Grill\, 2056 Main St\, Green Bay\, WI\, 54302\, United States
ATTACH;FMTTYPE=image/png:https://safehavenpet.org/wp-content/uploads/2025/01/RSVP-please-1.png
END:VEVENT
END:VCALENDAR