BEGIN:VCALENDAR
VERSION:2.0
PRODID:-//Safe Haven Pet Sanctuary - ECPv6.15.20//NONSGML v1.0//EN
CALSCALE:GREGORIAN
METHOD:PUBLISH
X-WR-CALNAME:Safe Haven Pet Sanctuary
X-ORIGINAL-URL:https://safehavenpet.org
X-WR-CALDESC:Events for Safe Haven Pet Sanctuary
REFRESH-INTERVAL;VALUE=DURATION:PT1H
X-Robots-Tag:noindex
X-PUBLISHED-TTL:PT1H
BEGIN:VTIMEZONE
TZID:America/Chicago
BEGIN:DAYLIGHT
TZOFFSETFROM:-0600
TZOFFSETTO:-0500
TZNAME:CDT
DTSTART:20200308T080000
END:DAYLIGHT
BEGIN:STANDARD
TZOFFSETFROM:-0500
TZOFFSETTO:-0600
TZNAME:CST
DTSTART:20201101T070000
END:STANDARD
BEGIN:DAYLIGHT
TZOFFSETFROM:-0600
TZOFFSETTO:-0500
TZNAME:CDT
DTSTART:20210314T080000
END:DAYLIGHT
BEGIN:STANDARD
TZOFFSETFROM:-0500
TZOFFSETTO:-0600
TZNAME:CST
DTSTART:20211107T070000
END:STANDARD
BEGIN:DAYLIGHT
TZOFFSETFROM:-0600
TZOFFSETTO:-0500
TZNAME:CDT
DTSTART:20220313T080000
END:DAYLIGHT
BEGIN:STANDARD
TZOFFSETFROM:-0500
TZOFFSETTO:-0600
TZNAME:CST
DTSTART:20221106T070000
END:STANDARD
BEGIN:DAYLIGHT
TZOFFSETFROM:-0600
TZOFFSETTO:-0500
TZNAME:CDT
DTSTART:20230312T080000
END:DAYLIGHT
BEGIN:STANDARD
TZOFFSETFROM:-0500
TZOFFSETTO:-0600
TZNAME:CST
DTSTART:20231105T070000
END:STANDARD
END:VTIMEZONE
BEGIN:VEVENT
DTSTART;TZID=America/Chicago:20220709T090000
DTEND;TZID=America/Chicago:20220709T100000
DTSTAMP:20260419T212123
CREATED:20220617T184646Z
LAST-MODIFIED:20220617T184722Z
UID:25648-1657357200-1657360800@safehavenpet.org
SUMMARY:Yoga with Kitties!
DESCRIPTION:Join Unknown Yogi for a yoga class with kitties! This is a great way to get up close and personal with some adorable rescue cats. Anyone can attend! Please bring a mat. Cost: $15 Location: Safe Haven Pet Sanctuary\, 151 N Broadway Green Bay\, WI. 54303. Proceeds benefit the kitties!
URL:https://safehavenpet.org/event/yoga-with-kitties-42/
CATEGORIES:Fundraiser
ATTACH;FMTTYPE=image/jpeg:https://safehavenpet.org/wp-content/uploads/2022/01/yogawkit.jpg
END:VEVENT
BEGIN:VEVENT
DTSTART;TZID=America/Chicago:20220704T150000
DTEND;TZID=America/Chicago:20220704T223000
DTSTAMP:20260419T212123
CREATED:20220617T194125Z
LAST-MODIFIED:20220617T194125Z
UID:25668-1656946800-1656973800@safehavenpet.org
SUMMARY:July 4th Celebration Beer Tent
DESCRIPTION:Visit the Safe Haven Pet Sanctuary and Hidden Paws Network beer tent during the 4th of July Celebration in Downtown Green Bay! 10% Of sales and 100% of tips will be split by the two organizations to go towards local animal welfare!
URL:https://safehavenpet.org/event/july-4th-celebration-beer-tent/
LOCATION:Downtown Green Bay
CATEGORIES:Fundraiser
ATTACH;FMTTYPE=image/png:https://safehavenpet.org/wp-content/uploads/2022/06/July-4th.png
END:VEVENT
BEGIN:VEVENT
DTSTART;TZID=America/Chicago:20220701T173000
DTEND;TZID=America/Chicago:20220701T200000
DTSTAMP:20260419T212123
CREATED:20220518T224010Z
LAST-MODIFIED:20220612T183810Z
UID:25408-1656696600-1656705600@safehavenpet.org
SUMMARY:Speed Dating with Kitties 50+
DESCRIPTION:Safe Haven’s last speed dating event was a smashing success! We ran into one issue\, there was a VERY wide variety of ages. This summer\, we are splitting up into groups by age. This event will be speed dating for people who are over the age of 50! Enjoy conversation\, icebreakers\, snacks\, music\, and wine while rotating partners every 5 minutes followed by a half hour mix and mingle. At the end of the night\, you will fill out a form stating which participants we should pass your contact information along to\, or you may exchange information during the event! \nThis event will be for those who identify as straight. An LGBTQ edition is coming soon! \nPlease select either the men’s ticket\, or the women’s ticket.
URL:https://safehavenpet.org/event/speed-dating-with-kitties-50/
LOCATION:Safe Haven Pet Sanctuary Inc.\, 151 North Broadway\, Green Bay\, WI\, 54303\, United States
CATEGORIES:Fundraiser
ATTACH;FMTTYPE=image/png:https://safehavenpet.org/wp-content/uploads/2022/05/Add-a-heading-4.png
END:VEVENT
BEGIN:VEVENT
DTSTART;TZID=America/Chicago:20220625T090000
DTEND;TZID=America/Chicago:20220625T100000
DTSTAMP:20260419T212123
CREATED:20220608T173001Z
LAST-MODIFIED:20220608T173039Z
UID:25609-1656147600-1656151200@safehavenpet.org
SUMMARY:Yoga with Kitties!
DESCRIPTION:Join Unknown Yogi for a yoga class with kitties! This is a great way to get up close and personal with some adorable rescue cats. Anyone can attend! Please bring a mat. Cost: $15 Location: Safe Haven Pet Sanctuary\, 151 N Broadway Green Bay\, WI. 54303. Proceeds benefit the kitties!
URL:https://safehavenpet.org/event/yoga-with-kitties-41/
LOCATION:Safe Haven Pet Sanctuary Inc.\, 151 North Broadway\, Green Bay\, WI\, 54303\, United States
CATEGORIES:Fundraiser
ATTACH;FMTTYPE=image/jpeg:https://safehavenpet.org/wp-content/uploads/2022/01/yogawkit.jpg
END:VEVENT
BEGIN:VEVENT
DTSTART;TZID=America/Chicago:20220620T190000
DTEND;TZID=America/Chicago:20220620T200000
DTSTAMP:20260419T212123
CREATED:20220612T184444Z
LAST-MODIFIED:20220612T184444Z
UID:25624-1655751600-1655755200@safehavenpet.org
SUMMARY:Floor Fitness with Felines
DESCRIPTION:Join us for a low-impact floor fitness class with our furry friends! This class is 40 minutes of pilates and 15 minutes of stretching while the kitties bumble around hogging our yoga mats\, stepping on us\, and looking at us like we’re crazy! It’s a workout if you want it to be\, or just straight up comedy and cuddle time. Either approach is fine.
URL:https://safehavenpet.org/event/floor-fitness-with-felines-4/
LOCATION:Safe Haven Pet Sanctuary Inc.\, 151 North Broadway\, Green Bay\, WI\, 54303\, United States
CATEGORIES:Fundraiser
ATTACH;FMTTYPE=image/png:https://safehavenpet.org/wp-content/uploads/2022/05/Untitled-design-2.png
END:VEVENT
BEGIN:VEVENT
DTSTART;TZID=America/Chicago:20220606T190000
DTEND;TZID=America/Chicago:20220606T200000
DTSTAMP:20260419T212123
CREATED:20220518T214834Z
LAST-MODIFIED:20220518T215907Z
UID:25403-1654542000-1654545600@safehavenpet.org
SUMMARY:Floor Fitness with Felines
DESCRIPTION:Join us for a low-impact floor fitness class with our furry friends! This class is 40 minutes of pilates and 15 minutes of stretching while the kitties bumble around hogging our yoga mats\, stepping on us\, and looking at us like we’re crazy! It’s a workout if you want it to be\, or just straight up comedy and cuddle time. Either approach is fine.
URL:https://safehavenpet.org/event/floor-fitness-with-felines-3/
CATEGORIES:Fundraiser
ATTACH;FMTTYPE=image/png:https://safehavenpet.org/wp-content/uploads/2022/05/Untitled-design-2.png
END:VEVENT
BEGIN:VEVENT
DTSTART;TZID=America/Chicago:20220604T090000
DTEND;TZID=America/Chicago:20220604T100000
DTSTAMP:20260419T212123
CREATED:20220401T210209Z
LAST-MODIFIED:20220401T210209Z
UID:25039-1654333200-1654336800@safehavenpet.org
SUMMARY:Yoga with Kitties!
DESCRIPTION:Join Unknown Yogi for a yoga class with kitties! This is a great way to get up close and personal with some adorable rescue cats. Anyone can attend! Please bring a mat. Cost: $15 Location: Safe Haven Pet Sanctuary\, 151 N Broadway Green Bay\, WI. 54303. Proceeds benefit the kitties!
URL:https://safehavenpet.org/event/yoga-with-kitties-40/
LOCATION:Safe Haven Pet Sanctuary Inc.\, 151 North Broadway\, Green Bay\, WI\, 54303\, United States
CATEGORIES:Fundraiser
ATTACH;FMTTYPE=image/jpeg:https://safehavenpet.org/wp-content/uploads/2022/01/yogawkit.jpg
END:VEVENT
BEGIN:VEVENT
DTSTART;TZID=America/Chicago:20220521T090000
DTEND;TZID=America/Chicago:20220521T100000
DTSTAMP:20260419T212123
CREATED:20220401T205654Z
LAST-MODIFIED:20220401T205654Z
UID:25036-1653123600-1653127200@safehavenpet.org
SUMMARY:Yoga with Kitties!
DESCRIPTION:Join Unknown Yogi for a yoga class with kitties! This is a great way to get up close and personal with some adorable rescue cats. Anyone can attend! Please bring a mat. Cost: $15 Location: Safe Haven Pet Sanctuary\, 151 N Broadway Green Bay\, WI. 54303.
URL:https://safehavenpet.org/event/yoga-with-kitties-39/
LOCATION:Safe Haven Pet Sanctuary Inc.\, 151 North Broadway\, Green Bay\, WI\, 54303\, United States
CATEGORIES:Fundraiser
ATTACH;FMTTYPE=image/jpeg:https://safehavenpet.org/wp-content/uploads/2022/01/yogawkit.jpg
END:VEVENT
BEGIN:VEVENT
DTSTART;TZID=America/Chicago:20220514T183000
DTEND;TZID=America/Chicago:20220514T223000
DTSTAMP:20260419T212123
CREATED:20220307T202623Z
LAST-MODIFIED:20220510T013359Z
UID:24931-1652553000-1652567400@safehavenpet.org
SUMMARY:Furry Tail Ball 2022
DESCRIPTION:Provide life-saving care for animals with special needs and disabilities by joining us for the Furry Tail Ball!\nEnjoy raffles\, music\, dancing\, and a buffet!\n\nMusic by DJ Mike Novo – a crazy cat man who will be playing lots of fun “dancy” music.\n\n\nFood Selection:\nAll you can eat build-your-own pasta buffet! Vegan and Vegetarian Friendly\nShrimp Cocktail – GF\nFresh fruit and veggie trays!\nDONUT BAR!!!!\n\nAttire: Wear whatever you like! Wear a ball gown\, dress like a cat\, we don’t care\, as long as you have fun! \n\n*child free event
URL:https://safehavenpet.org/event/furry-tail-ball-2022/
LOCATION:Stadium View Bar and Grill\, 1963 Holmgren Way\, Green Bay\, WI\, 54304\, United States
CATEGORIES:Fundraiser
ATTACH;FMTTYPE=image/png:https://safehavenpet.org/wp-content/uploads/2022/03/Furry-Tail-COVER.png
END:VEVENT
BEGIN:VEVENT
DTSTART;TZID=America/Chicago:20220430T090000
DTEND;TZID=America/Chicago:20220430T100000
DTSTAMP:20260419T212123
CREATED:20220401T203709Z
LAST-MODIFIED:20220401T203709Z
UID:25032-1651309200-1651312800@safehavenpet.org
SUMMARY:Yoga with Kitties!
DESCRIPTION:Join Unknown Yogi for a yoga class with kitties! This is a great way to get up close and personal with some adorable rescue cats. Anyone can attend! Please bring a mat. Cost: $15 Location: Safe Haven Pet Sanctuary\, 151 N Broadway Green Bay\, WI. 54303.
URL:https://safehavenpet.org/event/yoga-with-kitties-38/
LOCATION:Safe Haven Pet Sanctuary Inc.\, 151 North Broadway\, Green Bay\, WI\, 54303\, United States
CATEGORIES:Fundraiser
ATTACH;FMTTYPE=image/jpeg:https://safehavenpet.org/wp-content/uploads/2022/01/yogawkit.jpg
END:VEVENT
BEGIN:VEVENT
DTSTART;TZID=America/Chicago:20220409T090000
DTEND;TZID=America/Chicago:20220409T100000
DTSTAMP:20260419T212123
CREATED:20220401T203348Z
LAST-MODIFIED:20220401T203348Z
UID:25029-1649494800-1649498400@safehavenpet.org
SUMMARY:Yoga with Kitties!
DESCRIPTION:Join Unknown Yogi for a yoga class with kitties! This is a great way to get up close and personal with some adorable rescue cats. Anyone can attend! Please bring a mat. Cost: $15 Location: Safe Haven Pet Sanctuary\, 151 N Broadway Green Bay\, WI. 54303.
URL:https://safehavenpet.org/event/yoga-with-kitties-37/
LOCATION:Safe Haven Pet Sanctuary Inc.\, 151 North Broadway\, Green Bay\, WI\, 54303\, United States
CATEGORIES:Fundraiser
ATTACH;FMTTYPE=image/jpeg:https://safehavenpet.org/wp-content/uploads/2022/01/yogawkit.jpg
END:VEVENT
BEGIN:VEVENT
DTSTART;TZID=America/Chicago:20220312T120000
DTEND;TZID=America/Chicago:20220312T150000
DTSTAMP:20260419T212123
CREATED:20220303T001453Z
LAST-MODIFIED:20220303T015434Z
UID:24865-1647086400-1647097200@safehavenpet.org
SUMMARY:Meet and Greets with Denali and Reba
DESCRIPTION:Denali and Reba will be accepting visitors with Jason and Elizabeth on Saturday\, March 12th from 12-3PM. \nDenali is cautious around children\, and prefers children to be over the age of 11. \nSerious adopters and potential fosters only please!
URL:https://safehavenpet.org/event/meet-and-greets-with-denali-and-reba/
LOCATION:Safe Haven Pet Sanctuary Inc.\, 151 North Broadway\, Green Bay\, WI\, 54303\, United States
ATTACH;FMTTYPE=image/jpeg:https://safehavenpet.org/wp-content/uploads/2022/03/Denali-and-Reebs-1.jpg
END:VEVENT
BEGIN:VEVENT
DTSTART;TZID=America/Chicago:20220310T190000
DTEND;TZID=America/Chicago:20220310T200000
DTSTAMP:20260419T212123
CREATED:20220303T014900Z
LAST-MODIFIED:20220303T014900Z
UID:24884-1646938800-1646942400@safehavenpet.org
SUMMARY:Yoga with Kitties!
DESCRIPTION:Join us\, along with Megan\, owner of Unknown Yogi\, for an uplifting yoga class among our furry feline friends. The cost is $15\, please bring a mat!\nYou can bring your own beverage\, or purchase one at the front desk.\n\nProceeds benefit the kitties of Safe Haven Pet Sanctuary.
URL:https://safehavenpet.org/event/yoga-with-kitties-35/
LOCATION:Safe Haven Pet Sanctuary Inc.\, 151 North Broadway\, Green Bay\, WI\, 54303\, United States
ATTACH;FMTTYPE=image/jpeg:https://safehavenpet.org/wp-content/uploads/2022/01/yogawkit.jpg
END:VEVENT
BEGIN:VEVENT
DTSTART;TZID=America/Chicago:20220309T190000
DTEND;TZID=America/Chicago:20220309T200000
DTSTAMP:20260419T212123
CREATED:20220303T023719Z
LAST-MODIFIED:20220303T023719Z
UID:24893-1646852400-1646856000@safehavenpet.org
SUMMARY:Floor Fitness with Felines!
DESCRIPTION:Join us for a floor workout with felines! In all of the classes we’ve had over the years\, the kitties have always loved it the best when the humans are rolling around on the floor. This pilates and yoga inspired workout will get you up close and personal with our adoptable kitties\, while toning your abs\, gluten\, and arms! This is a simple class for anyone – even if you’re the type of person who doesn’t work out. If you get tired during the class\, feel free to sit back and take a break with the nearest kitty. Please bring a yoga mat if you can. We do have extras for those who don’t own one.
URL:https://safehavenpet.org/event/floor-fitness-with-felines-2/
LOCATION:Safe Haven Pet Sanctuary Inc.\, 151 North Broadway\, Green Bay\, WI\, 54303\, United States
ATTACH;FMTTYPE=image/png:https://safehavenpet.org/wp-content/uploads/2022/01/Purrfect-felines.png
END:VEVENT
BEGIN:VEVENT
DTSTART;TZID=America/Chicago:20220210T190000
DTEND;TZID=America/Chicago:20220210T200000
DTSTAMP:20260419T212123
CREATED:20220202T180129Z
LAST-MODIFIED:20220202T180525Z
UID:24645-1644519600-1644523200@safehavenpet.org
SUMMARY:Yoga with Kitties!
DESCRIPTION:Join us\, along with Megan\, owner of Unknown Yogi\, for an uplifting yoga class. The cost is $15\, please bring a mat & your mask. Proceeds benefit the kitties of Safe Haven Pet Sanctuary.
URL:https://safehavenpet.org/event/yoga-with-kitties-34/
CATEGORIES:Fundraiser
ATTACH;FMTTYPE=image/jpeg:https://safehavenpet.org/wp-content/uploads/2022/01/yogawkit.jpg
END:VEVENT
BEGIN:VEVENT
DTSTART;TZID=America/Chicago:20220205T120000
DTEND;TZID=America/Chicago:20220205T150000
DTSTAMP:20260419T212123
CREATED:20220131T194152Z
LAST-MODIFIED:20220131T194152Z
UID:24622-1644062400-1644073200@safehavenpet.org
SUMMARY:Meet and Greets with Denali!
DESCRIPTION:Denali will be accepting visitors with Elizabeth on Saturday\, Feb 5th from 12-3PM. Denali is cautious around children\, and prefers children to be over the age of 10. Serious adopters and fosters only.
URL:https://safehavenpet.org/event/meet-and-greets-with-denali/
LOCATION:Safe Haven Pet Sanctuary Inc.\, 151 North Broadway\, Green Bay\, WI\, 54303\, United States
ATTACH;FMTTYPE=image/png:https://safehavenpet.org/wp-content/uploads/2022/01/Meet-e1643657911705.png
END:VEVENT
BEGIN:VEVENT
DTSTART;TZID=America/Chicago:20220204T190000
DTEND;TZID=America/Chicago:20220204T220000
DTSTAMP:20260419T212123
CREATED:20210926T142548Z
LAST-MODIFIED:20220202T163611Z
UID:22778-1644001200-1644012000@safehavenpet.org
SUMMARY:Speed Dating with Kitties!
DESCRIPTION:Join us for Safe Haven’s first ever speed dating night! We will have a variety of different activities for you to meet some new people! All with the company of our kitties! What better way to meet someone new than through the bonding over cats?? Drinks and snacks will be included!
URL:https://safehavenpet.org/event/speed-dating-with-kitties/
LOCATION:Safe Haven Pet Sanctuary Inc.\, 151 North Broadway\, Green Bay\, WI\, 54303\, United States
CATEGORIES:Fundraiser
ATTACH;FMTTYPE=image/jpeg:https://safehavenpet.org/wp-content/uploads/2021/09/8C9B32AB-FE59-48D6-B2B6-A6B77E1B73C4.jpeg
END:VEVENT
BEGIN:VEVENT
DTSTART;TZID=America/Chicago:20220127T190000
DTEND;TZID=America/Chicago:20220127T200000
DTSTAMP:20260419T212123
CREATED:20220119T175241Z
LAST-MODIFIED:20220119T175241Z
UID:24558-1643310000-1643313600@safehavenpet.org
SUMMARY:Yoga with Kitties!
DESCRIPTION:Join us\, along with Megan\, owner of Unknown Yogi\, for an uplifting yoga class.\nThe cost is $15\, please bring a mat & your mask.\nProceeds benefit the kitties of Safe Haven Pet Sanctuary.
URL:https://safehavenpet.org/event/yoga-with-kitties-33/
LOCATION:Safe Haven Pet Sanctuary Inc.\, 151 North Broadway\, Green Bay\, WI\, 54303\, United States
CATEGORIES:Fundraiser
ATTACH;FMTTYPE=image/jpeg:https://safehavenpet.org/wp-content/uploads/2022/01/yogawkit.jpg
END:VEVENT
BEGIN:VEVENT
DTSTART;TZID=America/Chicago:20220119T190000
DTEND;TZID=America/Chicago:20220119T200000
DTSTAMP:20260419T212123
CREATED:20220103T214757Z
LAST-MODIFIED:20220111T162940Z
UID:23565-1642618800-1642622400@safehavenpet.org
SUMMARY:Floor Fitness with Felines
DESCRIPTION:Join us for a floor workout with felines! In all of the classes we’ve had over the years\, the kitties have always loved it the best when the humans are rolling around on the floor. This pilates and yoga inspired workout will get you up close and personal with our adoptable kitties\, while toning your abs\, gluten\, and arms! This is a  simple class for anyone – even if you’re the type of person who doesn’t work out. If you get tired during the class\, feel free to sit back and take a break with the nearest kitty. Please bring a yoga mat if you can. We do have extras for those who don’t own one. \n**We recommend that non-vaccinated individuals bring a mask.
URL:https://safehavenpet.org/event/floor-fitness-with-felines/
LOCATION:Safe Haven Pet Sanctuary Inc.\, 151 North Broadway\, Green Bay\, WI\, 54303\, United States
CATEGORIES:Fundraiser
ATTACH;FMTTYPE=image/png:https://safehavenpet.org/wp-content/uploads/2022/01/Purrfect-felines.png
END:VEVENT
BEGIN:VEVENT
DTSTART;TZID=America/Chicago:20211230T183000
DTEND;TZID=America/Chicago:20211230T193000
DTSTAMP:20260419T212123
CREATED:20211119T011840Z
LAST-MODIFIED:20211119T011840Z
UID:23100-1640889000-1640892600@safehavenpet.org
SUMMARY:Yoga with Kitties!
DESCRIPTION:Join us for Yoga with Kitties at Safe Haven Pet Sanctuary with instructor Megan from Unknown Yogi! Please bring a yoga mat\, water bottle and a face mask if you are not yet fully vaccinated for COVID19.
URL:https://safehavenpet.org/event/yoga-with-kitties-31/
LOCATION:Safe Haven Pet Sanctuary Inc.\, 151 North Broadway\, Green Bay\, WI\, 54303\, United States
CATEGORIES:Fundraiser
ATTACH;FMTTYPE=image/png:https://safehavenpet.org/wp-content/uploads/2021/01/Purrfect-practice-2-1.png
END:VEVENT
BEGIN:VEVENT
DTSTART;TZID=America/Chicago:20211202T183000
DTEND;TZID=America/Chicago:20211202T193000
DTSTAMP:20260419T212123
CREATED:20211119T011307Z
LAST-MODIFIED:20211119T012039Z
UID:23093-1638469800-1638473400@safehavenpet.org
SUMMARY:Yoga with Kitties!
DESCRIPTION:Join us for Yoga with Kitties at Safe Haven Pet Sanctuary with instructor Megan from Unknown Yogi! Please bring a yoga mat\, water bottle and a face mask if you are not yet fully vaccinated for COVID19.
URL:https://safehavenpet.org/event/yoga-with-kitties-27/
LOCATION:Safe Haven Pet Sanctuary Inc.\, 151 North Broadway\, Green Bay\, WI\, 54303\, United States
CATEGORIES:Fundraiser
ATTACH;FMTTYPE=image/png:https://safehavenpet.org/wp-content/uploads/2021/01/Purrfect-practice-2-1.png
END:VEVENT
BEGIN:VEVENT
DTSTART;TZID=America/Chicago:20211118T183000
DTEND;TZID=America/Chicago:20211118T193000
DTSTAMP:20260419T212123
CREATED:20210811T222641Z
LAST-MODIFIED:20210811T222641Z
UID:22506-1637260200-1637263800@safehavenpet.org
SUMMARY:Yoga with Kitties!
DESCRIPTION:Join us for Yoga with Kitties at Safe Haven Pet Sanctuary with instructor Megan from Unknown Yogi! Please bring a yoga mat\, water bottle and a face mask if you are not yet fully vaccinated for COVID19.
URL:https://safehavenpet.org/event/yoga-with-kitties-36/
LOCATION:Safe Haven Pet Sanctuary Inc.\, 151 North Broadway\, Green Bay\, WI\, 54303\, United States
CATEGORIES:Fundraiser
ATTACH;FMTTYPE=image/png:https://safehavenpet.org/wp-content/uploads/2021/01/Purrfect-practice-2-1.png
END:VEVENT
BEGIN:VEVENT
DTSTART;TZID=America/Chicago:20211022T190000
DTEND;TZID=America/Chicago:20211022T213000
DTSTAMP:20260419T212123
CREATED:20211005T180256Z
LAST-MODIFIED:20211005T180256Z
UID:22827-1634929200-1634938200@safehavenpet.org
SUMMARY:Cats Against Humanity
DESCRIPTION:Join us for a fun filled night of Cards Against Humanity\, with the company of our kitties! Yes they are going to walk all over the cards and knock stacks over but hey that’s half of the fun.\nDrinks and snacks will be included!
URL:https://safehavenpet.org/event/cats-against-humanity/
LOCATION:Safe Haven Pet Sanctuary Inc.\, 151 North Broadway\, Green Bay\, WI\, 54303\, United States
CATEGORIES:Fundraiser
ATTACH;FMTTYPE=image/jpeg:https://safehavenpet.org/wp-content/uploads/2021/10/181EB42E-043A-4678-87F4-0407A6615BAB-scaled.jpeg
END:VEVENT
BEGIN:VEVENT
DTSTART;TZID=America/Chicago:20211021T183000
DTEND;TZID=America/Chicago:20211021T193000
DTSTAMP:20260419T212123
CREATED:20210811T210211Z
LAST-MODIFIED:20210811T210211Z
UID:22492-1634841000-1634844600@safehavenpet.org
SUMMARY:Yoga with Kitties!
DESCRIPTION:Join us for Yoga with Kitties at Safe Haven Pet Sanctuary with instructor Megan from Unknown Yogi! Please bring a yoga mat\, water bottle and a face mask if you are not yet fully vaccinated for COVID19.
URL:https://safehavenpet.org/event/yoga-with-kitties-32/
LOCATION:Safe Haven Pet Sanctuary Inc.\, 151 North Broadway\, Green Bay\, WI\, 54303\, United States
CATEGORIES:Fundraiser
ATTACH;FMTTYPE=image/png:https://safehavenpet.org/wp-content/uploads/2021/01/Purrfect-practice-2-1.png
END:VEVENT
BEGIN:VEVENT
DTSTART;TZID=America/Chicago:20211007T183000
DTEND;TZID=America/Chicago:20211007T193000
DTSTAMP:20260419T212123
CREATED:20210803T190218Z
LAST-MODIFIED:20210803T190218Z
UID:22443-1633631400-1633635000@safehavenpet.org
SUMMARY:Yoga with Kitties!
DESCRIPTION:Join us for Yoga with Kitties at Safe Haven Pet Sanctuary with instructor Megan from Unknown Yogi! Please bring a yoga mat\, water bottle and a face mask if you are not yet fully vaccinated for COVID19.
URL:https://safehavenpet.org/event/yoga-with-kitties-30/
LOCATION:Safe Haven Pet Sanctuary Inc.\, 151 North Broadway\, Green Bay\, WI\, 54303\, United States
CATEGORIES:Fundraiser
ATTACH;FMTTYPE=image/png:https://safehavenpet.org/wp-content/uploads/2021/01/Purrfect-practice-2-1.png
END:VEVENT
BEGIN:VEVENT
DTSTART;TZID=America/Chicago:20210923T183000
DTEND;TZID=America/Chicago:20210923T193000
DTSTAMP:20260419T212123
CREATED:20210803T184950Z
LAST-MODIFIED:20210803T184950Z
UID:22437-1632421800-1632425400@safehavenpet.org
SUMMARY:Yoga with Kitties!
DESCRIPTION:Join us for Yoga with Kitties at Safe Haven Pet Sanctuary with instructor Megan from Unknown Yogi! Please bring a yoga mat\, water bottle and a face mask if you are not yet fully vaccinated for COVID19.
URL:https://safehavenpet.org/event/yoga-with-kitties-28/
LOCATION:Safe Haven Pet Sanctuary Inc.\, 151 North Broadway\, Green Bay\, WI\, 54303\, United States
CATEGORIES:Fundraiser
ATTACH;FMTTYPE=image/png:https://safehavenpet.org/wp-content/uploads/2021/01/Purrfect-practice-2-1.png
END:VEVENT
BEGIN:VEVENT
DTSTART;TZID=America/Chicago:20210917T190000
DTEND;TZID=America/Chicago:20210917T213000
DTSTAMP:20260419T212123
CREATED:20210906T202010Z
LAST-MODIFIED:20210906T202010Z
UID:22630-1631905200-1631914200@safehavenpet.org
SUMMARY:Adult Game Night!
DESCRIPTION:Join us for a fun filled night of board/card games… with the company of our kitties! We will have an assortment of all different kinds of board and card games\, there is bound to be something for everyone to enjoy! *Note* we cannot guarantee that a cat will not jump onto a board and mess up a whole game. Non alcoholic drinks and snacks will be included! 18+ only.
URL:https://safehavenpet.org/event/adult-game-night-3/
LOCATION:Safe Haven Pet Sanctuary Inc.\, 151 North Broadway\, Green Bay\, WI\, 54303\, United States
CATEGORIES:Fundraiser
ATTACH;FMTTYPE=image/png:https://safehavenpet.org/wp-content/uploads/2021/09/241202378_368084671478900_7510462462177257425_n.png
END:VEVENT
BEGIN:VEVENT
DTSTART;TZID=America/Chicago:20210909T183000
DTEND;TZID=America/Chicago:20210909T193000
DTSTAMP:20260419T212123
CREATED:20210803T181500Z
LAST-MODIFIED:20210803T181500Z
UID:22431-1631212200-1631215800@safehavenpet.org
SUMMARY:Yoga with Kitties!
DESCRIPTION:Join us for Yoga with Kitties at Safe Haven Pet Sanctuary with instructor Megan from Unknown Yogi! Please bring a yoga mat\, water bottle and a face mask if you are not yet fully vaccinated for COVID19.
URL:https://safehavenpet.org/event/yoga-with-kitties-26/
LOCATION:Safe Haven Pet Sanctuary Inc.\, 151 North Broadway\, Green Bay\, WI\, 54303\, United States
CATEGORIES:Fundraiser
ATTACH;FMTTYPE=image/png:https://safehavenpet.org/wp-content/uploads/2021/01/Purrfect-practice-2-1.png
END:VEVENT
BEGIN:VEVENT
DTSTART;TZID=America/Chicago:20210817T183000
DTEND;TZID=America/Chicago:20210817T193000
DTSTAMP:20260419T212123
CREATED:20210730T212404Z
LAST-MODIFIED:20210803T180440Z
UID:22408-1629225000-1629228600@safehavenpet.org
SUMMARY:Yoga with Kitties!
DESCRIPTION:Join us for Yoga with Kitties at Safe Haven Pet Sanctuary with instructor Megan from Unknown Yogi! Please bring a yoga mat\, water bottle and a face mask if you are not yet fully vaccinated for COVID19.
URL:https://safehavenpet.org/event/yoga-with-kitties-25/
LOCATION:Safe Haven Pet Sanctuary Inc.\, 151 North Broadway\, Green Bay\, WI\, 54303\, United States
CATEGORIES:Fundraiser
ATTACH;FMTTYPE=image/png:https://safehavenpet.org/wp-content/uploads/2021/01/Purrfect-practice-2-1.png
END:VEVENT
BEGIN:VEVENT
DTSTART;TZID=America/Chicago:20210812T183000
DTEND;TZID=America/Chicago:20210812T193000
DTSTAMP:20260419T212123
CREATED:20210730T212136Z
LAST-MODIFIED:20210730T212136Z
UID:22405-1628793000-1628796600@safehavenpet.org
SUMMARY:Yoga with Kitties!
DESCRIPTION:Join us for Yoga with Kitties at Safe Haven Pet Sanctuary with instructor Megan from Unknown Yogi! Please bring a yoga mat\, water bottle and a face mask if you are not yet fully vaccinated for COVID19.
URL:https://safehavenpet.org/event/yoga-with-kitties-24/
LOCATION:Safe Haven Pet Sanctuary Inc.\, 151 North Broadway\, Green Bay\, WI\, 54303\, United States
CATEGORIES:Fundraiser
ATTACH;FMTTYPE=image/png:https://safehavenpet.org/wp-content/uploads/2021/01/Purrfect-practice-2-1.png
END:VEVENT
END:VCALENDAR