BEGIN:VCALENDAR
VERSION:2.0
PRODID:-//Safe Haven Pet Sanctuary - ECPv6.15.20//NONSGML v1.0//EN
CALSCALE:GREGORIAN
METHOD:PUBLISH
X-WR-CALNAME:Safe Haven Pet Sanctuary
X-ORIGINAL-URL:https://safehavenpet.org
X-WR-CALDESC:Events for Safe Haven Pet Sanctuary
REFRESH-INTERVAL;VALUE=DURATION:PT1H
X-Robots-Tag:noindex
X-PUBLISHED-TTL:PT1H
BEGIN:VTIMEZONE
TZID:America/New_York
BEGIN:DAYLIGHT
TZOFFSETFROM:-0500
TZOFFSETTO:-0400
TZNAME:EDT
DTSTART:20150308T070000
END:DAYLIGHT
BEGIN:STANDARD
TZOFFSETFROM:-0400
TZOFFSETTO:-0500
TZNAME:EST
DTSTART:20151101T060000
END:STANDARD
BEGIN:DAYLIGHT
TZOFFSETFROM:-0500
TZOFFSETTO:-0400
TZNAME:EDT
DTSTART:20160313T070000
END:DAYLIGHT
BEGIN:STANDARD
TZOFFSETFROM:-0400
TZOFFSETTO:-0500
TZNAME:EST
DTSTART:20161106T060000
END:STANDARD
BEGIN:DAYLIGHT
TZOFFSETFROM:-0500
TZOFFSETTO:-0400
TZNAME:EDT
DTSTART:20170312T070000
END:DAYLIGHT
BEGIN:STANDARD
TZOFFSETFROM:-0400
TZOFFSETTO:-0500
TZNAME:EST
DTSTART:20171105T060000
END:STANDARD
BEGIN:DAYLIGHT
TZOFFSETFROM:-0500
TZOFFSETTO:-0400
TZNAME:EDT
DTSTART:20180311T070000
END:DAYLIGHT
BEGIN:STANDARD
TZOFFSETFROM:-0400
TZOFFSETTO:-0500
TZNAME:EST
DTSTART:20181104T060000
END:STANDARD
END:VTIMEZONE
BEGIN:VTIMEZONE
TZID:America/Denver
BEGIN:DAYLIGHT
TZOFFSETFROM:-0700
TZOFFSETTO:-0600
TZNAME:MDT
DTSTART:20150308T090000
END:DAYLIGHT
BEGIN:STANDARD
TZOFFSETFROM:-0600
TZOFFSETTO:-0700
TZNAME:MST
DTSTART:20151101T080000
END:STANDARD
BEGIN:DAYLIGHT
TZOFFSETFROM:-0700
TZOFFSETTO:-0600
TZNAME:MDT
DTSTART:20160313T090000
END:DAYLIGHT
BEGIN:STANDARD
TZOFFSETFROM:-0600
TZOFFSETTO:-0700
TZNAME:MST
DTSTART:20161106T080000
END:STANDARD
BEGIN:DAYLIGHT
TZOFFSETFROM:-0700
TZOFFSETTO:-0600
TZNAME:MDT
DTSTART:20170312T090000
END:DAYLIGHT
BEGIN:STANDARD
TZOFFSETFROM:-0600
TZOFFSETTO:-0700
TZNAME:MST
DTSTART:20171105T080000
END:STANDARD
BEGIN:DAYLIGHT
TZOFFSETFROM:-0700
TZOFFSETTO:-0600
TZNAME:MDT
DTSTART:20180311T090000
END:DAYLIGHT
BEGIN:STANDARD
TZOFFSETFROM:-0600
TZOFFSETTO:-0700
TZNAME:MST
DTSTART:20181104T080000
END:STANDARD
END:VTIMEZONE
BEGIN:VTIMEZONE
TZID:America/Chicago
BEGIN:DAYLIGHT
TZOFFSETFROM:-0600
TZOFFSETTO:-0500
TZNAME:CDT
DTSTART:20150308T080000
END:DAYLIGHT
BEGIN:STANDARD
TZOFFSETFROM:-0500
TZOFFSETTO:-0600
TZNAME:CST
DTSTART:20151101T070000
END:STANDARD
BEGIN:DAYLIGHT
TZOFFSETFROM:-0600
TZOFFSETTO:-0500
TZNAME:CDT
DTSTART:20160313T080000
END:DAYLIGHT
BEGIN:STANDARD
TZOFFSETFROM:-0500
TZOFFSETTO:-0600
TZNAME:CST
DTSTART:20161106T070000
END:STANDARD
BEGIN:DAYLIGHT
TZOFFSETFROM:-0600
TZOFFSETTO:-0500
TZNAME:CDT
DTSTART:20170312T080000
END:DAYLIGHT
BEGIN:STANDARD
TZOFFSETFROM:-0500
TZOFFSETTO:-0600
TZNAME:CST
DTSTART:20171105T070000
END:STANDARD
END:VTIMEZONE
BEGIN:VTIMEZONE
TZID:UTC
BEGIN:STANDARD
TZOFFSETFROM:+0000
TZOFFSETTO:+0000
TZNAME:UTC
DTSTART:20150101T000000
END:STANDARD
END:VTIMEZONE
BEGIN:VEVENT
DTSTART;TZID=America/New_York:20170424T183000
DTEND;TZID=America/New_York:20170424T191500
DTSTAMP:20260420T031005
CREATED:20170331T222725Z
LAST-MODIFIED:20170331T222725Z
UID:768-1493058600-1493061300@safehavenpet.org
SUMMARY:Yoga with Kitties CLASS 2
DESCRIPTION:This is our second class of the night added for those who wanted to join but missed the cutoff =) The class will be $10 with 100% of proceeds benefiting the kitties! Please bring your own matt.
URL:https://safehavenpet.org/event/yoga-with-kitties-class-2/
ATTACH;FMTTYPE=image/jpeg:https://safehavenpet.org/wp-content/uploads/2017/03/facebook_event_1737593803198833.jpg
END:VEVENT
BEGIN:VEVENT
DTSTART;TZID=America/New_York:20170424T180000
DTEND;TZID=America/New_York:20170424T190000
DTSTAMP:20260420T031005
CREATED:20170330T214333Z
LAST-MODIFIED:20170330T214333Z
UID:766-1493056800-1493060400@safehavenpet.org
SUMMARY:Yoga with Kitties
DESCRIPTION:Join us for another Yoga with Kitties by Flow Yoga Studio at Safe Haven Pet Sanctuary Inc.! The kitties join in on the class\, and we all get a great workout. The class is $10\, with 100% of proceeds being donated to the kitties! We have 20 spots available for this class. Spots will fill up quickly. Please comment on the events page to reserve your spot!
URL:https://safehavenpet.org/event/yoga-with-kitties-3/
ATTACH;FMTTYPE=image/jpeg:https://safehavenpet.org/wp-content/uploads/2017/03/facebook_event_200329080464003.jpg
END:VEVENT
BEGIN:VEVENT
DTSTART;TZID=America/New_York:20170423T120000
DTEND;TZID=America/New_York:20170423T153000
DTSTAMP:20260420T031005
CREATED:20170418T012641Z
LAST-MODIFIED:20170418T012641Z
UID:802-1492948800-1492961400@safehavenpet.org
SUMMARY:Lucky 7 Open House!
DESCRIPTION:Looking for something fun to do on a Sunday afternoon?? Stop by Safe Haven Pet Sanctuary to meet some of Lucky 7’s pups and get to know us! We will also have our homemade dog treats (and a special line of kitty treats!) for sale\, along with homemade toys and treat jars! We hope to see you there! ❤
URL:https://safehavenpet.org/event/lucky-7-open-house/
ATTACH;FMTTYPE=image/jpeg:https://safehavenpet.org/wp-content/uploads/2017/04/facebook_event_916961398445945.jpg
END:VEVENT
BEGIN:VEVENT
DTSTART;TZID=America/New_York:20170423T120000
DTEND;TZID=America/New_York:20170423T153000
DTSTAMP:20260420T031005
CREATED:20170414T014109Z
LAST-MODIFIED:20170414T014109Z
UID:796-1492948800-1492961400@safehavenpet.org
SUMMARY:Puppy Takeover!
DESCRIPTION:Get ready for the PUPPY TAKEOVER at Safe Haven Pet Sanctuary Inc.! The kitties will be hanging back in their playrooms while Lucky 7 Dog Rescue takes over the lobby….with adoptable puppies! Also featured at this event will be Yummy Pup Pet Treats\, a new\, local\, up-and-coming puppy treat company! That days sponsoring photographer will be the talented Angela Austin Photography. Dog people\, this day is YOUR day! Stop in\, play with some pups\, and grab some yummy treats to take home! ??
URL:https://safehavenpet.org/event/puppy-takeover/
ATTACH;FMTTYPE=image/jpeg:https://safehavenpet.org/wp-content/uploads/2017/04/facebook_event_1676605779299815.jpg
END:VEVENT
BEGIN:VEVENT
DTSTART;TZID=America/Denver:20170310T150000
DTEND;TZID=America/Denver:20170310T180000
DTSTAMP:20260420T031005
CREATED:20170211T022545Z
LAST-MODIFIED:20170211T022545Z
UID:686-1489158000-1489168800@safehavenpet.org
SUMMARY:Canvas for Cats
DESCRIPTION:If you are an animal lover looking for a new piece of art\, this is the event for you! Canvas for Cats is an art show featuring animal-related art by local artists! The art will be available for purchase\, 100% of proceeds benefit Safe Haven Pet Sanctuary Inc. \n**Please message us if you would like to donate a piece of work.**
URL:https://safehavenpet.org/event/canvas-for-cats/
ATTACH;FMTTYPE=image/jpeg:https://safehavenpet.org/wp-content/uploads/2017/02/facebook_event_1877069432509184.jpg
END:VEVENT
BEGIN:VEVENT
DTSTART;TZID=America/Denver:20170228T180000
DTEND;TZID=America/Denver:20170228T190000
DTSTAMP:20260420T031005
CREATED:20170214T102734Z
LAST-MODIFIED:20170214T102734Z
UID:690-1488304800-1488308400@safehavenpet.org
SUMMARY:Yoga with Kitties!
DESCRIPTION:Due to LOTS of interest\, we are opening up another class for Yoga with Kitties by Flow Yoga Studio. This class will be limited to 15 people\, so please comment on the event page if you plan on attending. **There is a $10\, suggested donation.**
URL:https://safehavenpet.org/event/yoga-with-kitties-2/
ATTACH;FMTTYPE=image/jpeg:https://safehavenpet.org/wp-content/uploads/2017/02/facebook_event_159595344547196.jpg
END:VEVENT
BEGIN:VEVENT
DTSTART;TZID=America/Denver:20170212T150000
DTEND;TZID=America/Denver:20170212T180000
DTSTAMP:20260420T031005
CREATED:20170128T082500Z
LAST-MODIFIED:20170128T082500Z
UID:673-1486911600-1486922400@safehavenpet.org
SUMMARY:GlaMEOW shots by Laura
DESCRIPTION:
URL:https://safehavenpet.org/event/glameow-shots-by-laura/
ATTACH;FMTTYPE=image/jpeg:https://safehavenpet.org/wp-content/uploads/2017/01/facebook_event_568955679970760.jpg
END:VEVENT
BEGIN:VEVENT
DTSTART;TZID=America/Denver:20170107T120000
DTEND;TZID=America/Denver:20170107T140000
DTSTAMP:20260420T031005
CREATED:20161214T232532Z
LAST-MODIFIED:20161214T232532Z
UID:606-1483790400-1483797600@safehavenpet.org
SUMMARY:Yoga with Kitties!
DESCRIPTION:Join Flow Yoga Studio for a class that’s bound to be unique! Saturday\, January 7th Flow Yoga will host two classes at Safe Haven Pet Sanctuary Inc. adoption center and cat cafe. All levels welcome! The class is $10\, with proceeds benfitting our animals with special needs.\nFirst Class: 12:00PM-1:00PM\nSecond Class:1:00PM-2:00PM\nPlease RSVP and let us know which class you plan to attend by commenting on this event page. =)
URL:https://safehavenpet.org/event/yoga-with-kitties/
ATTACH;FMTTYPE=image/jpeg:https://safehavenpet.org/wp-content/uploads/2016/12/facebook_event_1884873185080856.jpg
END:VEVENT
BEGIN:VEVENT
DTSTART;TZID=America/Denver:20161228T150000
DTEND;TZID=America/Denver:20161228T180000
DTSTAMP:20260420T031005
CREATED:20161220T233221Z
LAST-MODIFIED:20161220T233221Z
UID:620-1482937200-1482948000@safehavenpet.org
SUMMARY:DEMO - Tapuat Kombucha
DESCRIPTION:Join us as we welcome Tapuat Kombucha to our lineup at The Safe Haven Pet Sanctuary Inc. Cat Cafe and Adoption Center! Learn about the benefits of kombucha with free samples and demos by a true expert. We could not be any more excited to be one of only two fill stations in the area! Learn more about Tapuat here: http://www.tapuatkombucha.com
URL:https://safehavenpet.org/event/demo-tapuat-kombucha/
ATTACH;FMTTYPE=image/jpeg:https://safehavenpet.org/wp-content/uploads/2016/12/facebook_event_1614501598566710.jpg
END:VEVENT
BEGIN:VEVENT
DTSTART;TZID=America/Chicago:20161210T120000
DTEND;TZID=America/Chicago:20161210T170000
DTSTAMP:20260420T031005
CREATED:20161115T023041Z
LAST-MODIFIED:20161115T023041Z
UID:556-1481371200-1481389200@safehavenpet.org
SUMMARY:SHPS Grand Opening Event
DESCRIPTION:Join us for our GRAND OPENING! Safe Haven Pet Sanctuary Inc. has found its very own forever home! We have been working very hard to bring the area its first pet lounge and adoption center. Enjoy comfy couches\, cute cafe tables\, purring kitties\, happy pups\, and locally made snacks and beverage by NECTAR of Green Bay! ???Thank you for your continued support and kind words. It is amazing to be part of a community so involved and devoted to helping animals in need!\nContributions towards our location costs\, and continued animal care can be made HERE: https://safehavenpet.org/donate/location/
URL:https://safehavenpet.org/event/shps-grand-opening-event/
ATTACH;FMTTYPE=image/jpeg:https://safehavenpet.org/wp-content/uploads/2016/11/facebook_event_1768454423421471.jpg
END:VEVENT
BEGIN:VEVENT
DTSTART;TZID=America/Chicago:20161121T180000
DTEND;TZID=America/Chicago:20161121T210000
DTSTAMP:20260420T031005
CREATED:20161110T082505Z
LAST-MODIFIED:20161110T082505Z
UID:543-1479751200-1479762000@safehavenpet.org
SUMMARY:Paws and Pizza
DESCRIPTION:Monday November 21st – Start the week off right with a $10 PIZZA BUFFET at Mangiamo Pizza & Pasta! Proceeds benefit Safe Haven Pet Sanctuary Inc. We KNOW you love pizza\, and we KNOW you love pets! Fill your belly so that we can fill their bellies\, too! <3
URL:https://safehavenpet.org/event/paws-and-pizza/
ATTACH;FMTTYPE=image/jpeg:https://safehavenpet.org/wp-content/uploads/2016/11/facebook_event_1646075655683661.jpg
END:VEVENT
BEGIN:VEVENT
DTSTART;TZID=America/Chicago:20161112T100000
DTEND;TZID=America/Chicago:20161112T170000
DTSTAMP:20260420T031005
CREATED:20161027T073349Z
LAST-MODIFIED:20161027T073349Z
UID:530-1478944800-1478970000@safehavenpet.org
SUMMARY:Presents for Pets
DESCRIPTION:We know you’re all VERY busy during the holiday season\, so for your convienience\, we will kick off our holiday early! On November 12th we will begin collecting donations of food\, litter\, toys\, beds\, blankets\, and anything else an animal could want! We are going to make sure that all of our rescue animals have the holiday season they deserve! Donation bins will be located at NECTAR of Green Bay. Enjoy a delicious cup of hot tea\, a soup\, or a warm pudding while you’re there. A percentage of the days sales benefits Safe Haven Pet Sanctuary Inc..
URL:https://safehavenpet.org/event/presents-for-pets/
ATTACH;FMTTYPE=image/jpeg:https://safehavenpet.org/wp-content/uploads/2016/10/facebook_event_207032929732933.jpg
END:VEVENT
BEGIN:VEVENT
DTSTART;TZID=America/New_York:20161103T100000
DTEND;TZID=America/New_York:20161116T220000
DTSTAMP:20260420T031005
CREATED:20161008T002601Z
LAST-MODIFIED:20161008T002601Z
UID:473-1478167200-1479333600@safehavenpet.org
SUMMARY:SHPS Online Scentsy Party!
DESCRIPTION:Safe Haven Pet Sanctuary Inc. is hosting an online holiday Scensty party! Grab your holiday gifts\, and give back 20% to animals with special needs! Questions can be directed to our helpful host\, Dana Arendt- Independent Scentsy Consultant. The party will be open for purchasing on November 3rd. This event is nationwide. Items will be shipped directly to your home!
URL:https://safehavenpet.org/event/shps-online-scentsy-party/
ATTACH;FMTTYPE=image/jpeg:https://safehavenpet.org/wp-content/uploads/2016/10/facebook_event_1293389110693284.jpg
END:VEVENT
BEGIN:VEVENT
DTSTART;TZID=America/New_York:20161008T100000
DTEND;TZID=America/New_York:20161008T180000
DTSTAMP:20260420T031005
CREATED:20161008T002559Z
LAST-MODIFIED:20161008T002559Z
UID:471-1475920800-1475949600@safehavenpet.org
SUMMARY:Furry Scurry
DESCRIPTION:Stop in at NECTAR of Green Bay on October 8th – Grab a juicy smoothie\, a super nutrient-filled meal\, or try an amazing aloe shot! Receive a discount for bringing your pet in its Halloween costume\, and check out the extra-special dog bowl for your furry baby to enjoy! How often do you get to take your dog on a date?! A perctentage of proceeds benefit Safe Haven Pet Sanctuary Inc. We hope to see you there!
URL:https://safehavenpet.org/event/furry-scurry-2/
ATTACH;FMTTYPE=image/jpeg:https://safehavenpet.org/wp-content/uploads/2016/10/facebook_event_338847839784579.jpg
END:VEVENT
BEGIN:VEVENT
DTSTART;TZID=UTC:20161008T100000
DTEND;TZID=UTC:20161008T170000
DTSTAMP:20260420T031005
CREATED:20161005T234632Z
LAST-MODIFIED:20161005T235530Z
UID:442-1475920800-1475946000@safehavenpet.org
SUMMARY:Furry Scurry
DESCRIPTION:Stop in at NECTAR of Green Bay on October 8th – Grab a juicy smoothie\, a super nutrient-filled meal\, or try an amazing aloe shot! Receive a discount for bringing your pet in its Halloween costume\, and check out the extra-special dog bowl for your furry baby to enjoy! How often do you get to take your dog on a date?! A percentage of proceeds benefit Safe Haven Pet Sanctuary Inc. We hope to see you there!
URL:https://safehavenpet.org/event/furry-scurry/
LOCATION:NECTAR of Green Bay\, 227 N Washington St\, Green Bay\, WI\, 54301\, United States
CATEGORIES:Fundraiser
ATTACH;FMTTYPE=image/jpeg:https://safehavenpet.org/wp-content/uploads/2016/10/14370208_566765606849041_375855901117479726_n.jpg
ORGANIZER;CN="Elizabeth":MAILTO:safehavenpetsanctuary@gmail.com
END:VEVENT
END:VCALENDAR