BEGIN:VCALENDAR
VERSION:2.0
PRODID:-//Safe Haven Pet Sanctuary - ECPv6.15.20//NONSGML v1.0//EN
CALSCALE:GREGORIAN
METHOD:PUBLISH
X-WR-CALNAME:Safe Haven Pet Sanctuary
X-ORIGINAL-URL:https://safehavenpet.org
X-WR-CALDESC:Events for Safe Haven Pet Sanctuary
REFRESH-INTERVAL;VALUE=DURATION:PT1H
X-Robots-Tag:noindex
X-PUBLISHED-TTL:PT1H
BEGIN:VTIMEZONE
TZID:America/Chicago
BEGIN:DAYLIGHT
TZOFFSETFROM:-0600
TZOFFSETTO:-0500
TZNAME:CDT
DTSTART:20200308T080000
END:DAYLIGHT
BEGIN:STANDARD
TZOFFSETFROM:-0500
TZOFFSETTO:-0600
TZNAME:CST
DTSTART:20201101T070000
END:STANDARD
BEGIN:DAYLIGHT
TZOFFSETFROM:-0600
TZOFFSETTO:-0500
TZNAME:CDT
DTSTART:20210314T080000
END:DAYLIGHT
BEGIN:STANDARD
TZOFFSETFROM:-0500
TZOFFSETTO:-0600
TZNAME:CST
DTSTART:20211107T070000
END:STANDARD
BEGIN:DAYLIGHT
TZOFFSETFROM:-0600
TZOFFSETTO:-0500
TZNAME:CDT
DTSTART:20220313T080000
END:DAYLIGHT
BEGIN:STANDARD
TZOFFSETFROM:-0500
TZOFFSETTO:-0600
TZNAME:CST
DTSTART:20221106T070000
END:STANDARD
END:VTIMEZONE
BEGIN:VEVENT
DTSTART;TZID=America/Chicago:20210817T183000
DTEND;TZID=America/Chicago:20210817T193000
DTSTAMP:20260423T162052
CREATED:20210730T212404Z
LAST-MODIFIED:20210803T180440Z
UID:22408-1629225000-1629228600@safehavenpet.org
SUMMARY:Yoga with Kitties!
DESCRIPTION:Join us for Yoga with Kitties at Safe Haven Pet Sanctuary with instructor Megan from Unknown Yogi! Please bring a yoga mat\, water bottle and a face mask if you are not yet fully vaccinated for COVID19.
URL:https://safehavenpet.org/event/yoga-with-kitties-25/
LOCATION:Safe Haven Pet Sanctuary Inc.\, 151 North Broadway\, Green Bay\, WI\, 54303\, United States
CATEGORIES:Fundraiser
ATTACH;FMTTYPE=image/png:https://safehavenpet.org/wp-content/uploads/2021/01/Purrfect-practice-2-1.png
END:VEVENT
BEGIN:VEVENT
DTSTART;TZID=America/Chicago:20210812T183000
DTEND;TZID=America/Chicago:20210812T193000
DTSTAMP:20260423T162052
CREATED:20210730T212136Z
LAST-MODIFIED:20210730T212136Z
UID:22405-1628793000-1628796600@safehavenpet.org
SUMMARY:Yoga with Kitties!
DESCRIPTION:Join us for Yoga with Kitties at Safe Haven Pet Sanctuary with instructor Megan from Unknown Yogi! Please bring a yoga mat\, water bottle and a face mask if you are not yet fully vaccinated for COVID19.
URL:https://safehavenpet.org/event/yoga-with-kitties-24/
LOCATION:Safe Haven Pet Sanctuary Inc.\, 151 North Broadway\, Green Bay\, WI\, 54303\, United States
CATEGORIES:Fundraiser
ATTACH;FMTTYPE=image/png:https://safehavenpet.org/wp-content/uploads/2021/01/Purrfect-practice-2-1.png
END:VEVENT
BEGIN:VEVENT
DTSTART;TZID=America/Chicago:20210729T183000
DTEND;TZID=America/Chicago:20210729T193000
DTSTAMP:20260423T162052
CREATED:20210302T012122Z
LAST-MODIFIED:20210302T012821Z
UID:21490-1627583400-1627587000@safehavenpet.org
SUMMARY:Yoga with Kitties!
DESCRIPTION:Join us for Yoga with the kitties! Please bring a mat\, a water bottle\, and a mask!
URL:https://safehavenpet.org/event/yoga-with-kitties-23/
LOCATION:Safe Haven Pet Sanctuary Inc.\, 151 North Broadway\, Green Bay\, WI\, 54303\, United States
CATEGORIES:Fundraiser
ATTACH;FMTTYPE=image/png:https://safehavenpet.org/wp-content/uploads/2021/01/Purrfect-practice-2.png
END:VEVENT
BEGIN:VEVENT
DTSTART;TZID=America/Chicago:20210715T183000
DTEND;TZID=America/Chicago:20210715T193000
DTSTAMP:20260423T162052
CREATED:20210302T011933Z
LAST-MODIFIED:20210302T012754Z
UID:21487-1626373800-1626377400@safehavenpet.org
SUMMARY:Yoga with Kitties!
DESCRIPTION:Join us for Yoga with the kitties! Please bring a mat\, a water bottle\, and a mask!
URL:https://safehavenpet.org/event/yoga-with-kitties-22/
LOCATION:Safe Haven Pet Sanctuary Inc.\, 151 North Broadway\, Green Bay\, WI\, 54303\, United States
CATEGORIES:Fundraiser
ATTACH;FMTTYPE=image/png:https://safehavenpet.org/wp-content/uploads/2021/01/Purrfect-practice-2.png
END:VEVENT
BEGIN:VEVENT
DTSTART;TZID=America/Chicago:20210701T183000
DTEND;TZID=America/Chicago:20210701T193000
DTSTAMP:20260423T162052
CREATED:20210302T011812Z
LAST-MODIFIED:20210302T012719Z
UID:21484-1625164200-1625167800@safehavenpet.org
SUMMARY:Yoga with Kitties!
DESCRIPTION:Join us for Yoga with the kitties! Please bring a mat\, a water bottle\, and a mask!
URL:https://safehavenpet.org/event/yoga-with-kitties-21/
LOCATION:Safe Haven Pet Sanctuary Inc.\, 151 North Broadway\, Green Bay\, WI\, 54303\, United States
CATEGORIES:Fundraiser
ATTACH;FMTTYPE=image/png:https://safehavenpet.org/wp-content/uploads/2021/01/Purrfect-practice-2.png
END:VEVENT
BEGIN:VEVENT
DTSTART;TZID=America/Chicago:20210624T181500
DTEND;TZID=America/Chicago:20210624T201500
DTSTAMP:20260423T162052
CREATED:20210608T204606Z
LAST-MODIFIED:20210608T204606Z
UID:22073-1624558500-1624565700@safehavenpet.org
SUMMARY:Silver Pendant Workshop
DESCRIPTION:Join us in creating silver pendants with Din’s Designs! Hand craft your own sterling silver necklace pendant for yourself or for a loved one. The cost is $55/pendant\, with proceeds benefitting our kitties!
URL:https://safehavenpet.org/event/silver-pendant-workshop-3/
LOCATION:Safe Haven Pet Sanctuary Inc.\, 151 North Broadway\, Green Bay\, WI\, 54303\, United States
CATEGORIES:Fundraiser
ATTACH;FMTTYPE=image/png:https://safehavenpet.org/wp-content/uploads/2021/02/124606181_366813861069278_8891857287594179449_n.png
END:VEVENT
BEGIN:VEVENT
DTSTART;TZID=America/Chicago:20210621T183000
DTEND;TZID=America/Chicago:20210621T193000
DTSTAMP:20260423T162052
CREATED:20210302T011649Z
LAST-MODIFIED:20210302T012659Z
UID:21481-1624300200-1624303800@safehavenpet.org
SUMMARY:Yoga with Kitties!
DESCRIPTION:Join us for Yoga with the kitties! Please bring a mat\, a water bottle\, and a mask!
URL:https://safehavenpet.org/event/yoga-with-kitties-20/
LOCATION:Safe Haven Pet Sanctuary Inc.\, 151 North Broadway\, Green Bay\, WI\, 54303\, United States
CATEGORIES:Fundraiser
ATTACH;FMTTYPE=image/png:https://safehavenpet.org/wp-content/uploads/2021/01/Purrfect-practice-2.png
END:VEVENT
BEGIN:VEVENT
DTSTART;TZID=America/Chicago:20210617T183000
DTEND;TZID=America/Chicago:20210617T193000
DTSTAMP:20260423T162052
CREATED:20210302T011518Z
LAST-MODIFIED:20210302T012638Z
UID:21478-1623954600-1623958200@safehavenpet.org
SUMMARY:Yoga with Kitties!
DESCRIPTION:Join us for Yoga with the kitties! Please bring a mat\, a water bottle\, and a mask!
URL:https://safehavenpet.org/event/yoga-with-kitties-19/
LOCATION:Safe Haven Pet Sanctuary Inc.\, 151 North Broadway\, Green Bay\, WI\, 54303\, United States
CATEGORIES:Fundraiser
ATTACH;FMTTYPE=image/png:https://safehavenpet.org/wp-content/uploads/2021/01/Purrfect-practice-2-1.png
END:VEVENT
BEGIN:VEVENT
DTSTART;TZID=America/Chicago:20210614T190000
DTEND;TZID=America/Chicago:20210614T200000
DTSTAMP:20260423T162052
CREATED:20210606T205713Z
LAST-MODIFIED:20210606T205713Z
UID:22067-1623697200-1623700800@safehavenpet.org
SUMMARY:Barre with Kitties!
DESCRIPTION:Tone\, sculpt\, and create flexibility in our low impact\, full-body fitness class! Expect many feline visitors throughout\, and be prepared to share your mat with a kitty friend. Masks required. There is plenty of room for social distancing. Proceeds benefit Safe Haven Pet Sanctuary.
URL:https://safehavenpet.org/event/barre-with-kitties-6/
LOCATION:Safe Haven Pet Sanctuary Inc.\, 151 North Broadway\, Green Bay\, WI\, 54303\, United States
ATTACH;FMTTYPE=image/png:https://safehavenpet.org/wp-content/uploads/2020/09/120061144_373332293792028_9194930157622144397_n.png
END:VEVENT
BEGIN:VEVENT
DTSTART;TZID=America/Chicago:20210524T183000
DTEND;TZID=America/Chicago:20210524T193000
DTSTAMP:20260423T162052
CREATED:20210302T010607Z
LAST-MODIFIED:20210302T012610Z
UID:21473-1621881000-1621884600@safehavenpet.org
SUMMARY:Yoga with Kitties!
DESCRIPTION:Join us for Yoga with the kitties! Please bring a mat\, a water bottle\, and a mask!
URL:https://safehavenpet.org/event/yoga-with-kitties-18/
LOCATION:Safe Haven Pet Sanctuary Inc.\, 151 North Broadway\, Green Bay\, WI\, 54303\, United States
CATEGORIES:Fundraiser
ATTACH;FMTTYPE=image/png:https://safehavenpet.org/wp-content/uploads/2021/01/Purrfect-practice-2-1.png
END:VEVENT
BEGIN:VEVENT
DTSTART;TZID=America/Chicago:20210520T183000
DTEND;TZID=America/Chicago:20210520T193000
DTSTAMP:20260423T162052
CREATED:20210302T010434Z
LAST-MODIFIED:20210302T012548Z
UID:21470-1621535400-1621539000@safehavenpet.org
SUMMARY:Yoga with Kitties!
DESCRIPTION:Join us for Yoga with the kitties! Please bring a mat\, a water bottle\, and a mask!
URL:https://safehavenpet.org/event/yoga-with-kitties-17/
LOCATION:Safe Haven Pet Sanctuary Inc.\, 151 North Broadway\, Green Bay\, WI\, 54303\, United States
CATEGORIES:Fundraiser
ATTACH;FMTTYPE=image/png:https://safehavenpet.org/wp-content/uploads/2021/01/Purrfect-practice-2-1.png
END:VEVENT
BEGIN:VEVENT
DTSTART;TZID=America/Chicago:20210512T190000
DTEND;TZID=America/Chicago:20210512T200000
DTSTAMP:20260423T162052
CREATED:20210405T214131Z
LAST-MODIFIED:20210405T214131Z
UID:21763-1620846000-1620849600@safehavenpet.org
SUMMARY:Barre with Kitties!
DESCRIPTION:Tone\, sculpt\, and create flexibility in our low impact\, full-body fitness class! Expect many feline visitors throughout\, and be prepared to share your mat with a kitty friend. Masks required. There is plenty of room for social distancing. Proceeds benefit Safe Haven Pet Sanctuary.
URL:https://safehavenpet.org/event/barre-with-kitties-2/
LOCATION:Safe Haven Pet Sanctuary Inc.\, 151 North Broadway\, Green Bay\, WI\, 54303\, United States
CATEGORIES:Fundraiser
ATTACH;FMTTYPE=image/png:https://safehavenpet.org/wp-content/uploads/2020/09/120061144_373332293792028_9194930157622144397_n.png
END:VEVENT
BEGIN:VEVENT
DTSTART;TZID=America/Chicago:20210506T183000
DTEND;TZID=America/Chicago:20210506T193000
DTSTAMP:20260423T162052
CREATED:20210302T010310Z
LAST-MODIFIED:20210302T012525Z
UID:21467-1620325800-1620329400@safehavenpet.org
SUMMARY:Yoga with Kitties!
DESCRIPTION:Join us for Yoga with the kitties! Please bring a mat\, a water bottle\, and a mask!
URL:https://safehavenpet.org/event/yoga-with-kitties-16/
LOCATION:Safe Haven Pet Sanctuary Inc.\, 151 North Broadway\, Green Bay\, WI\, 54303\, United States
CATEGORIES:Fundraiser
ATTACH;FMTTYPE=image/png:https://safehavenpet.org/wp-content/uploads/2021/01/Purrfect-practice-2-1.png
END:VEVENT
BEGIN:VEVENT
DTSTART;TZID=America/Chicago:20210428T190000
DTEND;TZID=America/Chicago:20210428T200000
DTSTAMP:20260423T162052
CREATED:20210426T194656Z
LAST-MODIFIED:20210426T194731Z
UID:21881-1619636400-1619640000@safehavenpet.org
SUMMARY:Barre with Kitties!
DESCRIPTION:Tone\, sculpt\, and create flexibility in our low impact\, full-body fitness class! Expect many feline visitors throughout\, and be prepared to share your mat with a kitty friend. Masks required. There is plenty of room for social distancing. Proceeds benefit Safe Haven Pet Sanctuary.
URL:https://safehavenpet.org/event/barre-with-kitties-7/
LOCATION:Safe Haven Pet Sanctuary Inc.\, 151 North Broadway\, Green Bay\, WI\, 54303\, United States
CATEGORIES:Fundraiser
ATTACH;FMTTYPE=image/png:https://safehavenpet.org/wp-content/uploads/2020/09/120061144_373332293792028_9194930157622144397_n.png
END:VEVENT
BEGIN:VEVENT
DTSTART;TZID=America/Chicago:20210426T183000
DTEND;TZID=America/Chicago:20210426T193000
DTSTAMP:20260423T162052
CREATED:20210302T010127Z
LAST-MODIFIED:20210302T012455Z
UID:21464-1619461800-1619465400@safehavenpet.org
SUMMARY:Yoga with Kitties!
DESCRIPTION:Join us for Yoga with the kitties! Please bring a mat\, a water bottle\, and a mask!
URL:https://safehavenpet.org/event/yoga-with-kitties-15/
LOCATION:Safe Haven Pet Sanctuary Inc.\, 151 North Broadway\, Green Bay\, WI\, 54303\, United States
CATEGORIES:Fundraiser
ATTACH;FMTTYPE=image/png:https://safehavenpet.org/wp-content/uploads/2021/01/Purrfect-practice-2-1.png
END:VEVENT
BEGIN:VEVENT
DTSTART;TZID=America/Chicago:20210414T190000
DTEND;TZID=America/Chicago:20210414T200000
DTSTAMP:20260423T162052
CREATED:20210302T023003Z
LAST-MODIFIED:20210414T171731Z
UID:21503-1618426800-1618430400@safehavenpet.org
SUMMARY:Barre with Kitties!
DESCRIPTION:Tone\, sculpt\, and create flexibility in our low impact\, full-body fitness class! Expect many feline visitors throughout\, and be prepared to share your mat with a kitty friend. Masks required. There is plenty of room for social distancing. Proceeds benefit Safe Haven Pet Sanctuary.
URL:https://safehavenpet.org/event/barre-with-kitties-5/
LOCATION:Safe Haven Pet Sanctuary Inc.\, 151 North Broadway\, Green Bay\, WI\, 54303\, United States
CATEGORIES:Fundraiser
ATTACH;FMTTYPE=image/png:https://safehavenpet.org/wp-content/uploads/2020/09/120061144_373332293792028_9194930157622144397_n.png
END:VEVENT
BEGIN:VEVENT
DTSTART;TZID=America/Chicago:20210412T183000
DTEND;TZID=America/Chicago:20210412T193000
DTSTAMP:20260423T162052
CREATED:20210302T005956Z
LAST-MODIFIED:20210302T012435Z
UID:21461-1618252200-1618255800@safehavenpet.org
SUMMARY:Yoga with Kitties!
DESCRIPTION:Join us for Yoga with the kitties! Please bring a mat\, a water bottle\, and a mask!
URL:https://safehavenpet.org/event/yoga-with-kitties-14/
LOCATION:Safe Haven Pet Sanctuary Inc.\, 151 North Broadway\, Green Bay\, WI\, 54303\, United States
CATEGORIES:Fundraiser
ATTACH;FMTTYPE=image/png:https://safehavenpet.org/wp-content/uploads/2021/01/Purrfect-practice-2-1.png
END:VEVENT
BEGIN:VEVENT
DTSTART;TZID=America/Chicago:20210408T183000
DTEND;TZID=America/Chicago:20210408T193000
DTSTAMP:20260423T162052
CREATED:20210302T005806Z
LAST-MODIFIED:20210302T012412Z
UID:21458-1617906600-1617910200@safehavenpet.org
SUMMARY:Yoga with Kitties!
DESCRIPTION:Join us for Yoga with the kitties! Please bring a mat\, a water bottle\, and a mask!
URL:https://safehavenpet.org/event/yoga-with-kitties-13/
LOCATION:Safe Haven Pet Sanctuary Inc.\, 151 North Broadway\, Green Bay\, WI\, 54303\, United States
CATEGORIES:Fundraiser
ATTACH;FMTTYPE=image/png:https://safehavenpet.org/wp-content/uploads/2021/01/Purrfect-practice-2-1.png
END:VEVENT
BEGIN:VEVENT
DTSTART;TZID=America/Chicago:20210407T190000
DTEND;TZID=America/Chicago:20210407T200000
DTSTAMP:20260423T162052
CREATED:20210302T022816Z
LAST-MODIFIED:20210302T022816Z
UID:21500-1617822000-1617825600@safehavenpet.org
SUMMARY:Barre with Kitties!
DESCRIPTION:Tone\, sculpt\, and create flexibility in our low impact\, full-body fitness class! Expect many feline visitors throughout\, and be prepared to share your mat with a kitty friend. Masks required. There is plenty of room for social distancing. Proceeds benefit Safe Haven Pet Sanctuary.
URL:https://safehavenpet.org/event/barre-with-kitties-4/
LOCATION:Safe Haven Pet Sanctuary Inc.\, 151 North Broadway\, Green Bay\, WI\, 54303\, United States
CATEGORIES:Fundraiser
ATTACH;FMTTYPE=image/png:https://safehavenpet.org/wp-content/uploads/2020/09/120061144_373332293792028_9194930157622144397_n.png
END:VEVENT
BEGIN:VEVENT
DTSTART;TZID=America/Chicago:20210406T181500
DTEND;TZID=America/Chicago:20210406T201500
DTSTAMP:20260423T162052
CREATED:20210329T234916Z
LAST-MODIFIED:20210329T234916Z
UID:21696-1617732900-1617740100@safehavenpet.org
SUMMARY:Silver Pendant Workshop
DESCRIPTION:Join us in creating silver pendants with Din’s Designs! Hand craft your own sterling silver necklace pendant for yourself or for a loved one. The cost is $55/pendant\, with proceeds benefitting our kitties!
URL:https://safehavenpet.org/event/silver-pendant-workshop-2/
LOCATION:Safe Haven Pet Sanctuary Inc.\, 151 North Broadway\, Green Bay\, WI\, 54303\, United States
ATTACH;FMTTYPE=image/png:https://safehavenpet.org/wp-content/uploads/2021/02/124606181_366813861069278_8891857287594179449_n.png
END:VEVENT
BEGIN:VEVENT
DTSTART;TZID=America/Chicago:20210331T190000
DTEND;TZID=America/Chicago:20210331T200000
DTSTAMP:20260423T162052
CREATED:20210302T022041Z
LAST-MODIFIED:20210302T022041Z
UID:21497-1617217200-1617220800@safehavenpet.org
SUMMARY:Barre with Kitties!
DESCRIPTION:Tone\, sculpt\, and create flexibility in our low impact\, full-body fitness class! Expect many feline visitors throughout\, and be prepared to share your mat with a kitty friend. Masks required. There is plenty of room for social distancing. Proceeds benefit Safe Haven Pet Sanctuary.
URL:https://safehavenpet.org/event/barre-with-kitties-3/
LOCATION:Safe Haven Pet Sanctuary Inc.\, 151 North Broadway\, Green Bay\, WI\, 54303\, United States
CATEGORIES:Fundraiser
ATTACH;FMTTYPE=image/png:https://safehavenpet.org/wp-content/uploads/2020/09/120061144_373332293792028_9194930157622144397_n.png
END:VEVENT
BEGIN:VEVENT
DTSTART;TZID=America/Chicago:20210329T183000
DTEND;TZID=America/Chicago:20210329T193000
DTSTAMP:20260423T162052
CREATED:20210302T005552Z
LAST-MODIFIED:20210302T012349Z
UID:21454-1617042600-1617046200@safehavenpet.org
SUMMARY:Yoga with Kitties!
DESCRIPTION:Join us for Yoga with the kitties! Please bring a mat\, a water bottle\, and a mask!
URL:https://safehavenpet.org/event/yoga-with-kitties-12/
LOCATION:Safe Haven Pet Sanctuary Inc.\, 151 North Broadway\, Green Bay\, WI\, 54303\, United States
CATEGORIES:Fundraiser
ATTACH;FMTTYPE=image/png:https://safehavenpet.org/wp-content/uploads/2021/01/Purrfect-practice-2-1.png
END:VEVENT
BEGIN:VEVENT
DTSTART;TZID=America/Chicago:20210325T183000
DTEND;TZID=America/Chicago:20210325T193000
DTSTAMP:20260423T162052
CREATED:20210302T005421Z
LAST-MODIFIED:20210302T012322Z
UID:21451-1616697000-1616700600@safehavenpet.org
SUMMARY:Yoga with Kitties!
DESCRIPTION:Join us for Yoga with the kitties! Please bring a mat\, a water bottle\, and a mask!
URL:https://safehavenpet.org/event/yoga-with-kitties-11/
LOCATION:Safe Haven Pet Sanctuary Inc.\, 151 North Broadway\, Green Bay\, WI\, 54303\, United States
CATEGORIES:Fundraiser
ATTACH;FMTTYPE=image/png:https://safehavenpet.org/wp-content/uploads/2021/01/Purrfect-practice-2-1.png
END:VEVENT
BEGIN:VEVENT
DTSTART;TZID=America/Chicago:20210315T183000
DTEND;TZID=America/Chicago:20210315T193000
DTSTAMP:20260423T162052
CREATED:20210302T005255Z
LAST-MODIFIED:20210302T012259Z
UID:21448-1615833000-1615836600@safehavenpet.org
SUMMARY:Yoga with Kitties!
DESCRIPTION:Join us for Yoga with the kitties! Please bring a mat\, a water bottle\, and a mask!
URL:https://safehavenpet.org/event/yoga-with-kitties-10/
LOCATION:Safe Haven Pet Sanctuary Inc.\, 151 North Broadway\, Green Bay\, WI\, 54303\, United States
CATEGORIES:Fundraiser
ATTACH;FMTTYPE=image/png:https://safehavenpet.org/wp-content/uploads/2021/01/Purrfect-practice-2-1.png
END:VEVENT
BEGIN:VEVENT
DTSTART;TZID=America/Chicago:20210311T183000
DTEND;TZID=America/Chicago:20210311T193000
DTSTAMP:20260423T162052
CREATED:20210302T005039Z
LAST-MODIFIED:20210302T012237Z
UID:21445-1615487400-1615491000@safehavenpet.org
SUMMARY:Yoga with Kitties!
DESCRIPTION:Join us for Yoga with the kitties! Please bring a mat\, a water bottle\, and a mask!
URL:https://safehavenpet.org/event/yoga-with-kitties-9/
LOCATION:Safe Haven Pet Sanctuary Inc.\, 151 North Broadway\, Green Bay\, WI\, 54303\, United States
CATEGORIES:Fundraiser
ATTACH;FMTTYPE=image/png:https://safehavenpet.org/wp-content/uploads/2021/01/Purrfect-practice-2-1.png
END:VEVENT
BEGIN:VEVENT
DTSTART;TZID=America/Chicago:20210304T181500
DTEND;TZID=America/Chicago:20210304T201500
DTSTAMP:20260423T162052
CREATED:20210212T010133Z
LAST-MODIFIED:20210212T010133Z
UID:21249-1614881700-1614888900@safehavenpet.org
SUMMARY:Silver Pendant Workshop
DESCRIPTION:Join us in creating silver pendants with Din’s Designs! Hand craft your own sterling silver necklace pendant for yourself or for a loved one. The cost is $55/pendant\, with proceeds benefitting our kitties!
URL:https://safehavenpet.org/event/silver-pendant-workshop/
LOCATION:Safe Haven Pet Sanctuary Inc.\, 151 North Broadway\, Green Bay\, WI\, 54303\, United States
ATTACH;FMTTYPE=image/png:https://safehavenpet.org/wp-content/uploads/2021/02/124606181_366813861069278_8891857287594179449_n.png
END:VEVENT
BEGIN:VEVENT
DTSTART;TZID=America/Chicago:20210303T190000
DTEND;TZID=America/Chicago:20210303T200000
DTSTAMP:20260423T162052
CREATED:20210204T203330Z
LAST-MODIFIED:20210204T203330Z
UID:21177-1614798000-1614801600@safehavenpet.org
SUMMARY:Barre with Kitties!
DESCRIPTION:Tone\, sculpt\, and create flexibility in our low impact\, full-body fitness class! Expect many feline visitors throughout\, and be prepared to share your mat with a kitty friend. Masks required. There is plenty of room for social distancing. Proceeds benefit Safe Haven Pet Sanctuary.
URL:https://safehavenpet.org/event/barre-with-kitties/
LOCATION:Safe Haven Pet Sanctuary Inc.\, 151 North Broadway\, Green Bay\, WI\, 54303\, United States
CATEGORIES:Fundraiser
ATTACH;FMTTYPE=image/png:https://safehavenpet.org/wp-content/uploads/2020/09/120061144_373332293792028_9194930157622144397_n.png
END:VEVENT
BEGIN:VEVENT
DTSTART;TZID=America/Chicago:20210225T183000
DTEND;TZID=America/Chicago:20210225T193000
DTSTAMP:20260423T162052
CREATED:20210204T193850Z
LAST-MODIFIED:20210204T195836Z
UID:21169-1614277800-1614281400@safehavenpet.org
SUMMARY:Yoga with Kitties!
DESCRIPTION:Join us for socially distanced Yoga with Kitties with Unknown Yogi. Please bring a mat\, water\, and a mask!
URL:https://safehavenpet.org/event/yoga-with-kitties-8/
LOCATION:Safe Haven Pet Sanctuary Inc.\, 151 North Broadway\, Green Bay\, WI\, 54303\, United States
CATEGORIES:Fundraiser
ATTACH;FMTTYPE=image/png:https://safehavenpet.org/wp-content/uploads/2021/01/Purrfect-practice-2-1.png
END:VEVENT
BEGIN:VEVENT
DTSTART;TZID=America/Chicago:20210215T183000
DTEND;TZID=America/Chicago:20210215T193000
DTSTAMP:20260423T162052
CREATED:20210204T192847Z
LAST-MODIFIED:20210204T192920Z
UID:21165-1613413800-1613417400@safehavenpet.org
SUMMARY:Yoga with Kitties!
DESCRIPTION:Join us for socially distanced Yoga with Kitties with Unknown Yogi. Please bring a mat\, water\, and a mask!
URL:https://safehavenpet.org/event/yoga-with-kitties-7/
LOCATION:Safe Haven Pet Sanctuary Inc.\, 151 North Broadway\, Green Bay\, WI\, 54303\, United States
CATEGORIES:Fundraiser
ATTACH;FMTTYPE=image/png:https://safehavenpet.org/wp-content/uploads/2021/01/Purrfect-practice-2-1.png
END:VEVENT
BEGIN:VEVENT
DTSTART;TZID=America/Chicago:20210211T183000
DTEND;TZID=America/Chicago:20210211T193000
DTSTAMP:20260423T162052
CREATED:20210111T185911Z
LAST-MODIFIED:20210111T190148Z
UID:21049-1613068200-1613071800@safehavenpet.org
SUMMARY:Yoga with Kitties!
DESCRIPTION:Join us for Yoga with the kitties! Please bring a mat\, a water bottle\, and a mask!
URL:https://safehavenpet.org/event/yoga-with-kitties-6/
CATEGORIES:Fundraiser
ATTACH;FMTTYPE=image/png:https://safehavenpet.org/wp-content/uploads/2021/01/Purrfect-practice-2-1.png
END:VEVENT
END:VCALENDAR