BEGIN:VCALENDAR
VERSION:2.0
PRODID:-//Safe Haven Pet Sanctuary - ECPv6.15.20//NONSGML v1.0//EN
CALSCALE:GREGORIAN
METHOD:PUBLISH
X-WR-CALNAME:Safe Haven Pet Sanctuary
X-ORIGINAL-URL:https://safehavenpet.org
X-WR-CALDESC:Events for Safe Haven Pet Sanctuary
REFRESH-INTERVAL;VALUE=DURATION:PT1H
X-Robots-Tag:noindex
X-PUBLISHED-TTL:PT1H
BEGIN:VTIMEZONE
TZID:America/Chicago
BEGIN:DAYLIGHT
TZOFFSETFROM:-0600
TZOFFSETTO:-0500
TZNAME:CDT
DTSTART:20180311T080000
END:DAYLIGHT
BEGIN:STANDARD
TZOFFSETFROM:-0500
TZOFFSETTO:-0600
TZNAME:CST
DTSTART:20181104T070000
END:STANDARD
BEGIN:DAYLIGHT
TZOFFSETFROM:-0600
TZOFFSETTO:-0500
TZNAME:CDT
DTSTART:20190310T080000
END:DAYLIGHT
BEGIN:STANDARD
TZOFFSETFROM:-0500
TZOFFSETTO:-0600
TZNAME:CST
DTSTART:20191103T070000
END:STANDARD
BEGIN:DAYLIGHT
TZOFFSETFROM:-0600
TZOFFSETTO:-0500
TZNAME:CDT
DTSTART:20200308T080000
END:DAYLIGHT
BEGIN:STANDARD
TZOFFSETFROM:-0500
TZOFFSETTO:-0600
TZNAME:CST
DTSTART:20201101T070000
END:STANDARD
BEGIN:DAYLIGHT
TZOFFSETFROM:-0600
TZOFFSETTO:-0500
TZNAME:CDT
DTSTART:20210314T080000
END:DAYLIGHT
BEGIN:STANDARD
TZOFFSETFROM:-0500
TZOFFSETTO:-0600
TZNAME:CST
DTSTART:20211107T070000
END:STANDARD
END:VTIMEZONE
BEGIN:VEVENT
DTSTART;TZID=America/Chicago:20201104T190000
DTEND;TZID=America/Chicago:20201104T200000
DTSTAMP:20260420T023049
CREATED:20200924T014700Z
LAST-MODIFIED:20200924T014700Z
UID:19934-1604516400-1604520000@safehavenpet.org
SUMMARY:Barre with Kitties!
DESCRIPTION:Tone\, sculpt\, and create flexibility in our low impact\, full-body fitness class! Expect many feline visitors throughout\, and be prepared to share your mat with a kitty friend. Masks required. There is plenty of room for social distancing. Proceeds benefit Safe Haven Pet Sanctuary.
URL:https://safehavenpet.org/event/barre-with-kitties-11-4-2020/
LOCATION:Safe Haven Pet Sanctuary Inc.\, 151 North Broadway\, Green Bay\, WI\, 54303\, United States
CATEGORIES:Fundraiser
ATTACH;FMTTYPE=image/png:https://safehavenpet.org/wp-content/uploads/2020/09/120061144_373332293792028_9194930157622144397_n.png
END:VEVENT
BEGIN:VEVENT
DTSTART;TZID=America/Chicago:20201028T190000
DTEND;TZID=America/Chicago:20201028T200000
DTSTAMP:20260420T023049
CREATED:20200924T014454Z
LAST-MODIFIED:20200924T014454Z
UID:19931-1603911600-1603915200@safehavenpet.org
SUMMARY:Barre with Kitties!
DESCRIPTION:Tone\, sculpt\, and create flexibility in our low impact\, full-body fitness class! Expect many feline visitors throughout\, and be prepared to share your mat with a kitty friend. Masks required. There is plenty of room for social distancing. Proceeds benefit Safe Haven Pet Sanctuary.
URL:https://safehavenpet.org/event/barre-with-kitties-10-28-2020/
LOCATION:Safe Haven Pet Sanctuary Inc.\, 151 North Broadway\, Green Bay\, WI\, 54303\, United States
CATEGORIES:Fundraiser
ATTACH;FMTTYPE=image/png:https://safehavenpet.org/wp-content/uploads/2020/09/120061144_373332293792028_9194930157622144397_n.png
END:VEVENT
BEGIN:VEVENT
DTSTART;TZID=America/Chicago:20201021T190000
DTEND;TZID=America/Chicago:20201021T200000
DTSTAMP:20260420T023049
CREATED:20200924T014156Z
LAST-MODIFIED:20200924T014305Z
UID:19927-1603306800-1603310400@safehavenpet.org
SUMMARY:Barre with Kitties!
DESCRIPTION:Tone\, sculpt\, and create flexibility in our low impact\, full-body fitness class! Expect many feline visitors throughout\, and be prepared to share your mat with a kitty friend. Masks required. There is plenty of room for social distancing. Proceeds benefit Safe Haven Pet Sanctuary.
URL:https://safehavenpet.org/event/barre-with-kitties-10-21-2020/
LOCATION:Safe Haven Pet Sanctuary Inc.\, 151 North Broadway\, Green Bay\, WI\, 54303\, United States
CATEGORIES:Fundraiser
ATTACH;FMTTYPE=image/png:https://safehavenpet.org/wp-content/uploads/2020/09/120061144_373332293792028_9194930157622144397_n.png
END:VEVENT
BEGIN:VEVENT
DTSTART;TZID=America/Chicago:20201014T190000
DTEND;TZID=America/Chicago:20201014T200000
DTSTAMP:20260420T023049
CREATED:20200924T014008Z
LAST-MODIFIED:20200924T014008Z
UID:19923-1602702000-1602705600@safehavenpet.org
SUMMARY:Barre with Kitties!
DESCRIPTION:Tone\, sculpt\, and create flexibility in our low impact\, full-body fitness class! Expect many feline visitors throughout\, and be prepared to share your mat with a kitty friend. Masks required. There is plenty of room for social distancing. Proceeds benefit Safe Haven Pet Sanctuary.
URL:https://safehavenpet.org/event/barre-with-kitties-10-14-2020/
LOCATION:Safe Haven Pet Sanctuary Inc.\, 151 North Broadway\, Green Bay\, WI\, 54303\, United States
CATEGORIES:Fundraiser
ATTACH;FMTTYPE=image/png:https://safehavenpet.org/wp-content/uploads/2020/09/120061144_373332293792028_9194930157622144397_n.png
END:VEVENT
BEGIN:VEVENT
DTSTART;TZID=America/Chicago:20200822T103000
DTEND;TZID=America/Chicago:20200822T113000
DTSTAMP:20260420T023049
CREATED:20200715T205410Z
LAST-MODIFIED:20200715T205448Z
UID:19567-1598092200-1598095800@safehavenpet.org
SUMMARY:Yoga with Kitties!
DESCRIPTION:Join us for Yoga with Kitties August 22nd at 10:30 AM! Proceeds are donated to our kitties! Please bring your own mat\, and a water bottle.
URL:https://safehavenpet.org/event/yoga-with-kitties-aug2020/
LOCATION:Safe Haven Pet Sanctuary Inc.\, 151 North Broadway\, Green Bay\, WI\, 54303\, United States
CATEGORIES:Fundraiser
ATTACH;FMTTYPE=image/png:https://safehavenpet.org/wp-content/uploads/2020/07/Yoga.png
END:VEVENT
BEGIN:VEVENT
DTSTART;TZID=America/Chicago:20200405T190000
DTEND;TZID=America/Chicago:20200405T200000
DTSTAMP:20260420T023049
CREATED:20200326T015726Z
LAST-MODIFIED:20200326T015726Z
UID:19282-1586113200-1586116800@safehavenpet.org
SUMMARY:Virtual Story Time with a Queen!
DESCRIPTION:Virtual Story Time with a Queen! Join us as we listen to Queen Paris read a variety of unique children’s books to an audience of kitties! \nLink to join storytime will be sent out via email a half-hour in advance. $10 per household gets you access from one device.
URL:https://safehavenpet.org/event/virtual-story-time-with-a-queen-april2020/
LOCATION:Zoom Video Communications
CATEGORIES:Fundraiser
ATTACH;FMTTYPE=image/png:https://safehavenpet.org/wp-content/uploads/2020/03/Virtual-Story-Time-April.png
END:VEVENT
BEGIN:VEVENT
DTSTART;TZID=America/Chicago:20200402T183000
DTEND;TZID=America/Chicago:20200402T193000
DTSTAMP:20260420T023049
CREATED:20200312T190842Z
LAST-MODIFIED:20200312T190842Z
UID:19225-1585852200-1585855800@safehavenpet.org
SUMMARY:Yoga with Kitties 4/2/2020
DESCRIPTION:Join us for Yoga with Kitties April 2nd at 6:30 PM! Proceeds are donated to our kitties! Please bring your own mat\, and a water bottle.
URL:https://safehavenpet.org/event/yoga-with-kitties-4-2-2020/
LOCATION:Safe Haven Pet Sanctuary Inc.\, 151 North Broadway\, Green Bay\, WI\, 54303\, United States
CATEGORIES:Fundraiser
ATTACH;FMTTYPE=image/jpeg:https://safehavenpet.org/wp-content/uploads/2020/01/SafeHavenYoga.jpg
END:VEVENT
BEGIN:VEVENT
DTSTART;TZID=America/Chicago:20200329T190000
DTEND;TZID=America/Chicago:20200329T200000
DTSTAMP:20260420T023049
CREATED:20200326T015411Z
LAST-MODIFIED:20200326T015751Z
UID:19277-1585508400-1585512000@safehavenpet.org
SUMMARY:Virtual Story Time with a Queen!
DESCRIPTION:Virtual Story Time with a Queen! Join us as we listen to Queen Paris read a variety of unique children’s books to an audience of kitties! \nLink to join storytime will be sent out via email a half-hour in advance. $10 per household gets you access from one device.
URL:https://safehavenpet.org/event/virtual-story-time-with-a-queen-march2020/
LOCATION:Zoom Video Communications
CATEGORIES:Fundraiser
ATTACH;FMTTYPE=image/jpeg:https://safehavenpet.org/wp-content/uploads/2020/03/Virtual-Story-Time.jpg
END:VEVENT
BEGIN:VEVENT
DTSTART;TZID=America/Chicago:20200328T220000
DTEND;TZID=America/Chicago:20200329T010000
DTSTAMP:20260420T023049
CREATED:20200312T204523Z
LAST-MODIFIED:20200312T204750Z
UID:19231-1585432800-1585443600@safehavenpet.org
SUMMARY:Drag Show for Kitties!
DESCRIPTION:Join us for our second Drag Show for Kitties at Napalese Lounge & Grille. \nNo entry fee\, but please bring an item from our wish list if you can! The wish list is posted on this event page\, but our MOST needed items are Friskies Pate’ Soft Food\, Tidy Cats Clumping Litter\, and nontoxic cleaning supplies. \n\n\n\n\n\n\n\n\n\n\nArrive at 10:00 PM to get seats. The show starts at 10:30 PM.
URL:https://safehavenpet.org/event/drag-show-for-kitties/
LOCATION:Napalese Lounge & Grille\, 1351 Cedar Street\, Green Bay\, WI\, 54302\, United States
CATEGORIES:Fundraiser
ATTACH;FMTTYPE=image/jpeg:https://safehavenpet.org/wp-content/uploads/2020/03/drag.jpg
END:VEVENT
BEGIN:VEVENT
DTSTART;TZID=America/Chicago:20200314T160000
DTEND;TZID=America/Chicago:20200314T200000
DTSTAMP:20260420T023049
CREATED:20200129T152923Z
LAST-MODIFIED:20200131T153431Z
UID:18422-1584201600-1584216000@safehavenpet.org
SUMMARY:D&D 5 & Cats
DESCRIPTION:Join us for Dungeons and Dragons 5 & Cats! DICE with CATS… what could possibly go wrong? Attendees will receive dice\, a dice bag\, free drip coffee\, and juice There will be two games going on with two separate dungeon masters. The ticket cost is $20. Proceeds are donated to the kitties at Safe Haven Pet Sanctuary Inc. ♥ \nDETAILS:\nAge range: 15 and up\nDate: March 14th\nTime: 3:30 pm arrive get drinks and snacks\n4 pm intro and prep. 4:30-8 pm playing game\nPrice: $20 per person \nWhat you get for the money: Drink and snack bar\, complimentary dice and dice bag! \nWhat you need to bring: one human with imagination!
URL:https://safehavenpet.org/event/dd-3-5-cats/
LOCATION:Safe Haven Pet Sanctuary Inc.\, 151 North Broadway\, Green Bay\, WI\, 54303\, United States
CATEGORIES:Fundraiser
ATTACH;FMTTYPE=image/png:https://safehavenpet.org/wp-content/uploads/2020/01/D-D.png
END:VEVENT
BEGIN:VEVENT
DTSTART;TZID=America/Chicago:20200306T113000
DTEND;TZID=America/Chicago:20200306T130000
DTSTAMP:20260420T023049
CREATED:20200129T152451Z
LAST-MODIFIED:20200129T152451Z
UID:18416-1583494200-1583499600@safehavenpet.org
SUMMARY:Social Media Workshop: Facebook 102
DESCRIPTION:
URL:https://safehavenpet.org/event/social-media-workshop-facebook-102/
LOCATION:TBA
CATEGORIES:Fundraiser
ATTACH;FMTTYPE=image/png:https://safehavenpet.org/wp-content/uploads/2020/01/Facebook-102.png
END:VEVENT
BEGIN:VEVENT
DTSTART;TZID=America/Chicago:20200229T180000
DTEND;TZID=America/Chicago:20200229T220000
DTSTAMP:20260420T023049
CREATED:20191210T042447Z
LAST-MODIFIED:20200131T153407Z
UID:14024-1582999200-1583013600@safehavenpet.org
SUMMARY:The Furry Tail Ball 2020
DESCRIPTION:Save the Date: The third annual Furry Tail Ball for Safe Haven Pet Sanctuary Inc. will be taking place on February 29th\, 6-10 PM in the banquet hall at Stadium View Bar and Grill.\n\n\n\nFeaturing: Live entertainment by the Ike Arumba and the Infidels\, stand-up comedy by David Leon\, an all-you-can-eat buffet\, raffles\, and a silent auction!\n\n\nCome one\, come all bring your friends to the Furry Tail Ball!\n\n\n\nTickets $35 in advance\, and $40 at the door. The raffle will be called at 9 PM.\n\n\nWe are not sending physical tickets\, you may show us your receipt on your phone\, or a printed copy\, at the registration table the day of the event.\n\n\n\n\nIf you’d like to sponsor or donate a raffle item or basket to this event\, please contact safehavengbfundraising@gmail.com
URL:https://safehavenpet.org/event/the-furry-tail-ball-2020/
LOCATION:Stadium View Bar and Grill\, 1963 Holmgren Way\, Green Bay\, WI\, 54304\, United States
CATEGORIES:Fundraiser
ATTACH;FMTTYPE=image/png:https://safehavenpet.org/wp-content/uploads/2019/12/The-Furry-Tail-Ball-2020.png
END:VEVENT
BEGIN:VEVENT
DTSTART;TZID=America/Chicago:20200208T103000
DTEND;TZID=America/Chicago:20200208T113000
DTSTAMP:20260420T023049
CREATED:20200129T150650Z
LAST-MODIFIED:20200129T150803Z
UID:18397-1581157800-1581161400@safehavenpet.org
SUMMARY:Yoga with Kitties!
DESCRIPTION:Join us for Yoga with Kitties February 8th at 10:30 AM! Proceeds are donated to our kitties! Please bring your own mat\, and a water bottle.
URL:https://safehavenpet.org/event/yoga-with-kitties-feb-8-2020/
LOCATION:Safe Haven Pet Sanctuary Inc.\, 151 North Broadway\, Green Bay\, WI\, 54303\, United States
CATEGORIES:Fundraiser
ATTACH;FMTTYPE=image/jpeg:https://safehavenpet.org/wp-content/uploads/2020/01/SafeHavenYoga.jpg
END:VEVENT
BEGIN:VEVENT
DTSTART;TZID=America/Chicago:20200117T120000
DTEND;TZID=America/Chicago:20200117T133000
DTSTAMP:20260420T023049
CREATED:20191206T040956Z
LAST-MODIFIED:20191212T184017Z
UID:13916-1579262400-1579267800@safehavenpet.org
SUMMARY:Social Media Workshop: Facebook 101
DESCRIPTION:Join Elizabeth Feldhausen\, Founder of Safe Haven Pet Sanctuary and Owner of The Pawffee Shop Cat Cafe\, to learn how to harness the power of Facebook to profit your business or nonprofit organization. Proceeds for this workshop benefit Safe Haven Pet Sanctuary.
URL:https://safehavenpet.org/event/social-media-workshop-facebook-101/
LOCATION:Gather on Broadway\, 139 N Broadway\, Green Bay\, WI\, 54311\, United States
CATEGORIES:Fundraiser
ATTACH;FMTTYPE=image/png:https://safehavenpet.org/wp-content/uploads/2019/12/78109787_975868349456405_4817832345417547776_n.png
END:VEVENT
BEGIN:VEVENT
DTSTART;TZID=America/Chicago:20200116T183000
DTEND;TZID=America/Chicago:20200116T193000
DTSTAMP:20260420T023049
CREATED:20200107T032825Z
LAST-MODIFIED:20200107T032825Z
UID:17055-1579199400-1579203000@safehavenpet.org
SUMMARY:Candle Light Yoga with Kitties!
DESCRIPTION:Join us for Yoga with Kitties by Candle Light! The cost is $15\, and 100% of proceeds benefit the kitties! Please bring your own mat.
URL:https://safehavenpet.org/event/candle-light-yoga-with-kitties/
LOCATION:Safe Haven Pet Sanctuary Inc.\, 151 North Broadway\, Green Bay\, WI\, 54303\, United States
CATEGORIES:Fundraiser
ATTACH;FMTTYPE=image/jpeg:https://safehavenpet.org/wp-content/uploads/2020/01/SafeHavenYoga.jpg
END:VEVENT
BEGIN:VEVENT
DTSTART;TZID=America/Chicago:20191103T183000
DTEND;TZID=America/Chicago:20191103T193000
DTSTAMP:20260420T023049
CREATED:20191019T020953Z
LAST-MODIFIED:20191019T021120Z
UID:12389-1572805800-1572809400@safehavenpet.org
SUMMARY:Restorative Yoga with Kitties by Candlelight
DESCRIPTION:Join us for a Sunday evening Restorative Yoga with Kitties by candlelight with instructor Nicole Lasee. What a great way to prepare for the coming week! Please bring a yoga mat The cost is $15! Proceeds benefit our kitties.
URL:https://safehavenpet.org/event/restorative-yoga-with-kitties-by-candlelight/
LOCATION:Safe Haven Pet Sanctuary Inc.\, 151 North Broadway\, Green Bay\, WI\, 54303\, United States
CATEGORIES:Fundraiser
ATTACH;FMTTYPE=image/jpeg:https://safehavenpet.org/wp-content/uploads/2019/10/Yoga-Kitties-Fall.jpg
END:VEVENT
BEGIN:VEVENT
DTSTART;TZID=America/Chicago:20190927T183000
DTEND;TZID=America/Chicago:20190927T193000
DTSTAMP:20260420T023049
CREATED:20190914T014635Z
LAST-MODIFIED:20190914T014919Z
UID:11238-1569609000-1569612600@safehavenpet.org
SUMMARY:YOGA with Kitties!
DESCRIPTION:Join us for a SPECIAL yoga with kitties class with world-renown yoga instructor Bre Lee! Bre has spent years traveling all over the world teaching yoga. Most recently\, she’s been teaching in Hong Kong\, Peru\, and Morocco! The cost is $15. \nPlease bring a yoga mat!
URL:https://safehavenpet.org/event/yoga-with-kitties-9-27-19/
LOCATION:Safe Haven Pet Sanctuary Inc.\, 151 North Broadway\, Green Bay\, WI\, 54303\, United States
CATEGORIES:Fundraiser
ATTACH;FMTTYPE=image/jpeg:https://safehavenpet.org/wp-content/uploads/2018/12/Yoga.jpg
END:VEVENT
BEGIN:VEVENT
DTSTART;TZID=America/Chicago:20190808T183000
DTEND;TZID=America/Chicago:20190808T193000
DTSTAMP:20260420T023049
CREATED:20190618T232601Z
LAST-MODIFIED:20190618T232601Z
UID:9629-1565289000-1565292600@safehavenpet.org
SUMMARY:YOGA with Kitties!
DESCRIPTION:Join us for Yoga with Kitties August 8th\, 6:30PM-7:30PM! The cost is $15. \n*Please bring a yoga mat!*
URL:https://safehavenpet.org/event/yoga-with-kitties-august-8-2019/
LOCATION:Safe Haven Pet Sanctuary Inc.\, 151 North Broadway\, Green Bay\, WI\, 54303\, United States
CATEGORIES:Fundraiser
ATTACH;FMTTYPE=image/jpeg:https://safehavenpet.org/wp-content/uploads/2019/06/64879433_1108596425999287_7610112192251166720_n.jpg
END:VEVENT
BEGIN:VEVENT
DTSTART;TZID=America/Chicago:20190725T183000
DTEND;TZID=America/Chicago:20190725T193000
DTSTAMP:20260420T023049
CREATED:20190618T231038Z
LAST-MODIFIED:20190618T231914Z
UID:9625-1564079400-1564083000@safehavenpet.org
SUMMARY:YOGA with Kitties!
DESCRIPTION:Join us for a SPECIAL yoga with kitties class with world-renown yoga instructor Bre Lee! Bre has spent years traveling all over the world teaching yoga. Most recently\, she’s been teaching in Hong Kong\, Peru\, Morocco\, and Belgium! The cost is $15. \n*Please bring a yoga mat!*
URL:https://safehavenpet.org/event/yoga-with-kitties-july-25-19/
LOCATION:Safe Haven Pet Sanctuary Inc.\, 151 North Broadway\, Green Bay\, WI\, 54303\, United States
CATEGORIES:Fundraiser
ATTACH;FMTTYPE=image/jpeg:https://safehavenpet.org/wp-content/uploads/2018/12/Yoga.jpg
END:VEVENT
BEGIN:VEVENT
DTSTART;TZID=America/Chicago:20190709T160000
DTEND;TZID=America/Chicago:20190709T210000
DTSTAMP:20260420T023049
CREATED:20190615T191326Z
LAST-MODIFIED:20190615T191326Z
UID:9615-1562688000-1562706000@safehavenpet.org
SUMMARY:Sammiches for Kitties!
DESCRIPTION:Join us for dinner at Schlotzsky’s on July 9th from 4PM-9PM. They will be donating 15% of sales to our kitties as long as you mention our name at checkout!!! \nPLEASE RSVP using this link so that they can be well-prepared!  https://www.groupraise.com/events/99338
URL:https://safehavenpet.org/event/sammiches-for-kitties/
LOCATION:pin Schlotzsky’s (Green Bay\, WI)\, 2420 W Mason St.\, Green Bay\, WI\, 54303\, United States
CATEGORIES:Fundraiser
ATTACH;FMTTYPE=image/jpeg:https://safehavenpet.org/wp-content/uploads/2019/06/64564018_1105622522963344_6471074276802822144_n.jpg
END:VEVENT
BEGIN:VEVENT
DTSTART;TZID=America/Chicago:20190627T183000
DTEND;TZID=America/Chicago:20190627T193000
DTSTAMP:20260420T023049
CREATED:20190615T190805Z
LAST-MODIFIED:20190618T230409Z
UID:9612-1561660200-1561663800@safehavenpet.org
SUMMARY:YOGA with Kitties!
DESCRIPTION:Join us for a SPECIAL yoga with kitties class with world-renown yoga instructor Bre Lee! Bre has spent years traveling all over the world teaching yoga. Most recently\, she’s been teaching in Hong Kong\, Peru\, Morocco\, and Belgium! The cost is $15. \n*Please bring a yoga mat!*
URL:https://safehavenpet.org/event/yoga-with-kitties-6-27-19/
LOCATION:Safe Haven Pet Sanctuary Inc.\, 151 North Broadway\, Green Bay\, WI\, 54303\, United States
CATEGORIES:Fundraiser
ATTACH;FMTTYPE=image/jpeg:https://safehavenpet.org/wp-content/uploads/2018/12/Yoga.jpg
END:VEVENT
BEGIN:VEVENT
DTSTART;TZID=America/Chicago:20190613T183000
DTEND;TZID=America/Chicago:20190613T193000
DTSTAMP:20260420T023049
CREATED:20190523T021441Z
LAST-MODIFIED:20190523T021612Z
UID:9538-1560450600-1560454200@safehavenpet.org
SUMMARY:Yoga with Kitties!
DESCRIPTION:Join us for Yoga with Kitties June 13th\, 6:30PM-7:30PM! The cost is $15. *Please bring a yoga mat – we have a few extra*
URL:https://safehavenpet.org/event/yoga-with-kitties-june19/
LOCATION:Safe Haven Pet Sanctuary Inc.\, 151 North Broadway\, Green Bay\, WI\, 54303\, United States
CATEGORIES:Fundraiser
ATTACH;FMTTYPE=image/jpeg:https://safehavenpet.org/wp-content/uploads/2019/05/60838579_1089322147926715_7962879408417538048_n.jpg
END:VEVENT
BEGIN:VEVENT
DTSTART;TZID=America/Chicago:20190521T150000
DTEND;TZID=America/Chicago:20190521T210000
DTSTAMP:20260420T023049
CREATED:20190429T151314Z
LAST-MODIFIED:20190429T151314Z
UID:9452-1558450800-1558472400@safehavenpet.org
SUMMARY:Eat Pizza For Kitties
DESCRIPTION:Join us at Heartland Pizza Company on May 21st 3PM-9PM to eat some pizza for the kitties at Safe Haven Pet Sanctuary Inc.! Safe Haven will receive a percentage of sales for the day. We hope to see you there!
URL:https://safehavenpet.org/event/eat-pizza-for-kitties/
LOCATION:Heartland Pizza Company\, 2822 Ramada Way\, Green Bay\, 54304\, United States
CATEGORIES:Fundraiser
ATTACH;FMTTYPE=image/jpeg:https://safehavenpet.org/wp-content/uploads/2019/04/Pizza.jpg
END:VEVENT
BEGIN:VEVENT
DTSTART;TZID=America/Chicago:20190509T183000
DTEND;TZID=America/Chicago:20190509T193000
DTSTAMP:20260420T023049
CREATED:20190427T023622Z
LAST-MODIFIED:20190427T023704Z
UID:9433-1557426600-1557430200@safehavenpet.org
SUMMARY:Yoga with Kitties
DESCRIPTION:Join us for yoga with kitties with world-renown yoga instructor Bre Lee! ? Bre has spent years traveling all over the world teaching yoga. Most recently\, she’s been teaching in Hong Kong\, Peru\, and Morocco! The cost is $15. \nPlease bring a yoga mat!
URL:https://safehavenpet.org/event/yoga-with-kitties-may-9-19/
LOCATION:Safe Haven Pet Sanctuary Inc.\, 151 North Broadway\, Green Bay\, WI\, 54303\, United States
CATEGORIES:Fundraiser
ATTACH;FMTTYPE=image/jpeg:https://safehavenpet.org/wp-content/uploads/2018/12/Yoga.jpg
END:VEVENT
BEGIN:VEVENT
DTSTART;TZID=America/Chicago:20190427T103000
DTEND;TZID=America/Chicago:20190427T113000
DTSTAMP:20260420T023049
CREATED:20190325T022258Z
LAST-MODIFIED:20190325T194952Z
UID:9299-1556361000-1556364600@safehavenpet.org
SUMMARY:Story Time With A Queen
DESCRIPTION:Grab the kiddos and join us for another story time that teaches the inclusion of people and kitties of all kinds! Storytime will be followed by a Q&A with Paris Monroe and instructions for proper kitty handling. This event is $10/Child (Chaperones FREE). Book suggestions welcome!
URL:https://safehavenpet.org/event/story-time-with-a-queen/
LOCATION:Safe Haven Pet Sanctuary Inc.\, 151 North Broadway\, Green Bay\, WI\, 54303\, United States
CATEGORIES:Fundraiser
ATTACH;FMTTYPE=image/png:https://safehavenpet.org/wp-content/uploads/2019/03/54729679_2367122510185415_192917183473385472_n.png
END:VEVENT
BEGIN:VEVENT
DTSTART;TZID=America/Chicago:20190418T183000
DTEND;TZID=America/Chicago:20190418T193000
DTSTAMP:20260420T023049
CREATED:20190325T020708Z
LAST-MODIFIED:20190325T020708Z
UID:9296-1555612200-1555615800@safehavenpet.org
SUMMARY:Yoga with Kitties
DESCRIPTION:Join us for a SPECIAL yoga with kitties class with world-renown yoga instructor Bre Lee! Bre has spent years traveling all over the world teaching yoga. Most recently\, she’s been teaching in Hong Kong\, Peru\, and Morocco! The cost is $15. \nPlease bring a yoga mat!
URL:https://safehavenpet.org/event/yoga-with-kitties-april18/
LOCATION:Safe Haven Pet Sanctuary Inc.\, 151 North Broadway\, Green Bay\, WI\, 54303\, United States
CATEGORIES:Fundraiser
ATTACH;FMTTYPE=image/jpeg:https://safehavenpet.org/wp-content/uploads/2018/12/Yoga.jpg
END:VEVENT
BEGIN:VEVENT
DTSTART;TZID=America/Chicago:20190412T190000
DTEND;TZID=America/Chicago:20190412T220000
DTSTAMP:20260420T023049
CREATED:20190226T142754Z
LAST-MODIFIED:20190226T142754Z
UID:9234-1555095600-1555106400@safehavenpet.org
SUMMARY:Adult Game Night!
DESCRIPTION:$15/Player – Join us for another WILD board game night with kitties! \nEnjoy games like Cards Against Humanity\, Sorry\, Twister\, Jurassic Park\, Exploding Kittens\, Joking Hazard\, Most Likely Too…\, Can of Squirms\, & Sick and Twisted Charades!!! Must be 18+ to attend! ALL SNACKS FREE WITH ADMISSION  \nTickets can be purchased online or at the door.
URL:https://safehavenpet.org/event/adult-game-night-2/
LOCATION:Safe Haven Pet Sanctuary Inc.\, 151 North Broadway\, Green Bay\, WI\, 54303\, United States
CATEGORIES:Fundraiser
ATTACH;FMTTYPE=image/jpeg:https://safehavenpet.org/wp-content/uploads/2019/01/49568732_1953764388054496_716832923625455616_n.jpg
END:VEVENT
BEGIN:VEVENT
DTSTART;TZID=America/Chicago:20190330T180000
DTEND;TZID=America/Chicago:20190330T230000
DTSTAMP:20260420T023049
CREATED:20190214T043653Z
LAST-MODIFIED:20190214T043828Z
UID:9126-1553968800-1553986800@safehavenpet.org
SUMMARY:Under The Big Top
DESCRIPTION:Join us for a spectacular ? CIRCUS on Broadway featuring Queens of the Night\, & Aerial Roots Boutique with special performances by Dark Arts and the Wisconsin Historical Fencing Association (WHFA)! The night will include a Broadway musical themed drag showcase\, with acts in trapeze\, lyra\, silks\, aerial hammock\, flow artists\, fire play\, and fencing! ? This event is ?FAMILY FRIENDLY⭐️ Choose from ticket options that include general admission\, reserved seating\, (7PM Entry) or the cocktail hour option that includes early entry (6PM Entry) with special carnival food and appetizers by the amazing Chef Jyll & a daring pre-show by Dark Arts! KIDS tickets are $10! There will be popcorn and a special surprise snack during the show for ALL guests. ? The best part?? In this circus\, there are NO animal acts! In fact\, part of the proceeds and popcorn sales benefit the kitties of Safe Haven Pet Sanctuary. This is a circus where the humans perform for the benefit of animals! ? How cool is that?! ? \nTICKET PRICES:\n$10 Kids (4-12) General Admission (7PM ENTRY)\n$30 Kids (4-12) WITH Cocktail Hour\, Food\, Reserved Seating\, and Pre-Show (6PM ENTRY)\n$20 Standing Room Only (7PM ENTRY)\n$30 General Admission — guaranteed seat (7PM ENTRY)\n$50 Cocktail Hour & Reserved Seat (6PM ENTRY) — appetizers before the show\, special pre-show performances by Dark Arts\, and mingling with the Queens. \nMENU by Gather on Broadway\nCarnival Food Appetizers for Cocktail Hour Include:\nMini Shrimp Corn Dogs\nHot Dog Sliders with Bacon-Onion Jam\nPulled Pork Nachos\nPretzel Bites with Smoked Paprika Aioli\nChurro Bites with Nutella \nCancellation Policy:\nParticipants may cancel their registration without penalty up until 7 days prior to the event.\nCancellations received the week before the event will not be eligible for a monetary refund\, but can exchange for another Gather Experience\nCancellations received the day before\, the day of\, or after an event will not be eligible for a refund. \nBuy Tickets
URL:https://safehavenpet.org/event/under-the-big-top/
LOCATION:Gather on Broadway\, 139 N Broadway\, Green Bay\, WI\, 54311\, United States
CATEGORIES:Fundraiser
ATTACH;FMTTYPE=image/jpeg:https://safehavenpet.org/wp-content/uploads/2019/02/51449374_1021549351370662_906595500864569344_n.jpg
END:VEVENT
BEGIN:VEVENT
DTSTART;TZID=America/Chicago:20190312T183000
DTEND;TZID=America/Chicago:20190312T193000
DTSTAMP:20260420T023049
CREATED:20190214T042327Z
LAST-MODIFIED:20190214T042327Z
UID:9123-1552415400-1552419000@safehavenpet.org
SUMMARY:Yoga with Kitties
DESCRIPTION:Join us for a SPECIAL yoga with kitties class with world-renown yoga instructor Bre Lee! Bre has spent years traveling all over the world teaching yoga. Most recently\, she’s been teaching in Hong Kong\, Peru\, and Morocco! The cost is $15. \nPlease bring a yoga mat!
URL:https://safehavenpet.org/event/yoga-with-kitties-march12/
LOCATION:Safe Haven Pet Sanctuary Inc.\, 151 North Broadway\, Green Bay\, WI\, 54303\, United States
CATEGORIES:Fundraiser
ATTACH;FMTTYPE=image/jpeg:https://safehavenpet.org/wp-content/uploads/2018/12/Yoga.jpg
END:VEVENT
BEGIN:VEVENT
DTSTART;TZID=America/Chicago:20190301T183000
DTEND;TZID=America/Chicago:20190301T193000
DTSTAMP:20260420T023049
CREATED:20190214T042005Z
LAST-MODIFIED:20190214T042005Z
UID:9120-1551465000-1551468600@safehavenpet.org
SUMMARY:Yoga with Kitties
DESCRIPTION:Join us for a SPECIAL yoga with kitties class with world-renown yoga instructor Bre Lee! Bre has spent years traveling all over the world teaching yoga. Most recently\, she’s been teaching in Hong Kong\, Peru\, and Morocco! The cost is $15. \nPlease bring a yoga mat!
URL:https://safehavenpet.org/event/yoga-with-kitties-march1/
LOCATION:Safe Haven Pet Sanctuary Inc.\, 151 North Broadway\, Green Bay\, WI\, 54303\, United States
CATEGORIES:Fundraiser
ATTACH;FMTTYPE=image/jpeg:https://safehavenpet.org/wp-content/uploads/2018/12/Yoga.jpg
END:VEVENT
END:VCALENDAR